Workbook

Sheet 一般治疗类医疗服务价格项目废止表
A1: 附件3
A2: 一般治疗类医疗服务价格项目废止表
A3: 序号 | B3: 财务分类 | C3: 项目编码 | D3: 项目名称 | E3: 项目内涵 | F3: 除外内容 | G3: 计价单位 | H3: 说明
A4: 1 | B4: F | C4: 120100011 | D4: 吸痰护理 | E4: 含叩背、吸痰；不含雾化吸入。 | F4: 一次性吸痰管、一次性吸引瓶内胆、一次性引流管 | G4: 次 | H4: 每日收费不超过24次。
A5: 2 | B5: E | C5: 120100015 | D5: 机械辅助排痰 | E5: 指无力自主排痰的机械振动辅助治疗。 | G5: 次 | H5: 每天收费不超过3次。
A6: 3 | B6: E | C6: 120300001 | D6: 氧气吸入 | F6: 一次性鼻导管、鼻塞、面罩 | G6: 小时
A7: 4 | B7: E | C7: 120300001-1 | D7: 低流量给氧 | F7: 一次性鼻导管、鼻塞、面罩 | G7: 小时
A8: 5 | B8: E | C8: 120300001-2 | D8: 中流量给氧 | F8: 一次性鼻导管、鼻塞、面罩 | G8: 小时
A9: 6 | B9: E | C9: 120300001-3 | D9: 高流量给氧 | F9: 一次性鼻导管、鼻塞、面罩 | G9: 小时
A10: 7 | B10: E | C10: 120300001-4 | D10: 氧气创面治疗 | F10: 一次性鼻导管、鼻塞、面罩 | G10: 小时
A11: 8 | B11: E | C11: 120300001-5 | D11: 加压给氧加收 | G11: 小时
A12: 9 | B12: E | C12: 120300002S | D12: 高流量氧疗 | E12: 指使用空氧混合装置持续为患者提供一定流量（>30L/min）、加温湿化的呼吸气体，对氧合指数<300mmHg的重症患者进行治疗。 | F12: 呼吸管路、导管、面罩、接头 | G12: 小时 | H12: 不得与“呼吸机辅助呼吸”和“无创辅助通气项目”同时收费。
A13: 10 | B13: E | C13: 120400000-1 | D13: 注射加收(使用微量泵或输液泵) | G13: 每小时/组
A14: 11 | B14: E | C14: 120400001 | D14: 肌肉注射 | G14: 次
A15: 12 | B15: E | C15: 120400001-1 | D15: 皮下注射 | G15: 次
A16: 13 | B16: E | C16: 120400001-2 | D16: 皮内注射 | G16: 次
A17: 14 | B17: E | C17: 120400002 | D17: 静脉注射 | G17: 次 | H17: 留置静脉针使用透明敷贴另收。
A18: 15 | B18: E | C18: 120400002-1 | D18: 静脉采血 | G18: 次 | H18: 留置静脉针使用透明敷贴另收。
A19: 16 | B19: G | C19: 120400003 | D19: 心内注射 | G19: 次
A20: 17 | B20: E | C20: 120400004 | D20: 动脉加压注射 | G20: 次
A21: 18 | B21: E | C21: 120400004-1 | D21: 动脉采血 | G21: 次
A22: 19 | B22: E | C22: 120400005 | D22: 皮下输液 | G22: 次
A23: 20 | B23: E | C23: 120400006 | D23: 静脉输液 | E23: 指从核对、配药、穿刺、滴注、中途接瓶（袋）至拔针（留置针分离）结束的服务全过程。 | G23: 组 | H23: 留置静脉针使用透明敷贴另收。
A24: 21 | B24: E | C24: 120400006-1 | D24: 住院静脉输液 | G24: 组
A25: 22 | B25: E | C25: 120400006-1/1 | D25: 住院输血 | G25: 组
A26: 23 | B26: E | C26: 120400006-2 | D26: 门诊静脉输液 | G26: 组
A27: 24 | B27: E | C27: 120400006-2/1 | D27: 门诊输血 | G27: 组
A28: 25 | B28: E | C28: 120400006-3 | D28: 静脉连续输液(第二组及以上) | G28: 组
A29: 26 | B29: E | C29: 120400006-5 | D29: 骨髓腔内输液 | E29: 指骨髓腔内的输液、输血，不含骨髓穿刺。 | G29: 组
A30: 27 | B30: E | C30: 120400007 | D30: 小儿头皮静脉输液 | G30: 组
A31: 28 | B31: E | C31: 120400007-1 | D31: 小儿头皮静脉连续输液(第二组及以上) | G31: 组
A32: 29 | B32: E | C32: 120400008 | D32: 肠内营养液配置 | F32: 营养袋 | G32: 瓶/袋
A33: 30 | B33: G | C33: 120400009 | D33: 静脉切开置管术 | G33: 次
A34: 31 | B34: E | C34: 120400010 | D34: 静脉穿刺置管术 | E34: 指使用PICC导管进行的外周静脉穿刺。 | F34: 导管、血管鞘 | G34: 次
A35: 32 | B35: E | C35: 120400011 | D35: 中心静脉穿刺置管术 | F35: 中心静脉套件、测压套件、透明敷贴
A36: 33 | B36: E | C36: 120400011-1 | D36: 中心静脉穿刺置管术 | F36: 中心静脉套件、测压套件、透明敷贴 | G36: 次
A37: 34 | B37: E | C37: 120400011-2 | D37: 中心静脉测压 | G37: 次
A38: 35 | B38: E | C38: 120400011-3 | D38: 深静脉穿刺置管术 | F38: 中心静脉套件、测压套件、透明敷贴 | G38: 次
A39: 36 | B39: G | C39: 120400012 | D39: 动脉穿刺置管术 | F39: 一次性特殊动脉穿刺针、透明敷贴 | G39: 次
A40: 37 | B40: E | C40: 120500001 | D40: 清创缝合(大) | G40: 次 | H40: 缝合11针以上。
A41: 38 | B41: E | C41: 120500001-1 | D41: 术后创口二期缝合术(大) | G41: 次 | H41: 缝合11针以上。
A42: 39 | B42: E | C42: 120500001-2 | D42: 清创不缝合(大) | G42: 次 | H42: 伤口长度大于10厘米。
A43: 40 | B43: E | C43: 120500002 | D43: 清创缝合(中) | G43: 次 | H43: 缝合6-10针。
A44: 41 | B44: E | C44: 120500002-1 | D44: 术后创口二期缝合术(中) | G44: 次 | H44: 缝合6-10针。
A45: 42 | B45: E | C45: 120500002-2 | D45: 清创不缝合(中) | G45: 次 | H45: 伤口长度5-10（含）厘米。
A46: 43 | B46: E | C46: 120500003 | D46: 清创缝合(小) | G46: 次 | H46: 缝合1-5针。
A47: 44 | B47: E | C47: 120500003-1 | D47: 术后创口二期缝合术(小) | G47: 次 | H47: 缝合1-5针。
A48: 45 | B48: E | C48: 120500003-2 | D48: 清创不缝合(小) | G48: 次 | H48: 伤口长度小于等于5厘米。
A49: 46 | B49: E | C49: 120500004S | D49: 超声清创术 | E49: 指超声清创机清创，含清创后创面包扎。 | G49: 10cm2 | H49: 不足10cm2按10cm2计价。
A50: 47 | B50: E | C50: 120500004S-1 | D50: 超声清创术加收(超10cm2) | G50: 1cm2
A51: 48 | B51: E | C51: 120600001 | D51: 换药(特大) | F51: 药物、引流管 | G51: 次 | H51: 创面50（不含）cm2以上或长度25（不含）cm以上。
A52: 49 | B52: E | C52: 120600001-1 | D52: 门诊拆线(特大) | F52: 药物、引流管 | G52: 次 | H52: 创面50（不含）cm2以上或长度25（不含）cm以上。
A53: 50 | B53: E | C53: 120600001-2 | D53: 外擦药物治疗(特大) | F53: 药物、引流管 | G53: 次 | H53: 创面50（不含）cm2以上或长度25（不含）cm以上。
A54: 51 | B54: E | C54: 120600001-3 | D54: 外敷药物治疗(特大) | F54: 药物、引流管 | G54: 次 | H54: 创面50（不含）cm2以上或长度25（不含）cm以上。
A55: 52 | B55: E | C55: 120600001-4 | D55: 封包换药(特大) | F55: 药物、引流管 | G55: 次 | H55: 创面50（不含）cm2以上或长度25（不含）cm以上。
A56: 53 | B56: E | C56: 120600002 | D56: 换药(大) | F56: 药物、引流管 | G56: 次 | H56: 创面30（不含）-50（含）cm2或长度15（不含）-25（含）cm。
A57: 54 | B57: E | C57: 120600002-1 | D57: 门诊拆线(大) | F57: 药物、引流管 | G57: 次 | H57: 创面30（不含）-50（含）cm2或长度15（不含）-25（含）cm。
A58: 55 | B58: E | C58: 120600002-2 | D58: 外擦药物治疗(大) | F58: 药物、引流管 | G58: 次 | H58: 创面30（不含）-50（含）cm2或长度15（不含）-25（含）cm。
A59: 56 | B59: E | C59: 120600002-3 | D59: 外敷药物治疗(大) | F59: 药物、引流管 | G59: 次 | H59: 创面30（不含）-50（含）cm2或长度15（不含）-25（含）cm。
A60: 57 | B60: E | C60: 120600002-4 | D60: 封包换药(大) | F60: 药物、引流管 | G60: 次 | H60: 创面30（不含）-50（含）cm2或长度15（不含）-25（含）cm。
A61: 58 | B61: E | C61: 120600003 | D61: 换药(中) | F61: 药物、引流管 | G61: 次 | H61: 创面15（不含）-30（含）cm2 或长度10（不含）-15（含）cm。
A62: 59 | B62: E | C62: 120600003-1 | D62: 门诊拆线(中) | F62: 药物、引流管 | G62: 次 | H62: 创面15（不含）-30（含）cm2 或长度10（不含）-15（含）cm。
A63: 60 | B63: E | C63: 120600003-2 | D63: 外擦药物治疗(中) | F63: 药物、引流管 | G63: 次 | H63: 创面15（不含）-30（含）cm2 或长度10（不含）-15（含）cm。
A64: 61 | B64: E | C64: 120600003-3 | D64: 外敷药物治疗(中) | F64: 药物、引流管 | G64: 次 | H64: 创面15（不含）-30（含）cm2 或长度10（不含）-15（含）cm。
A65: 62 | B65: E | C65: 120600003-4 | D65: 封包换药(中) | F65: 药物、引流管 | G65: 次 | H65: 创面15（不含）-30（含）cm2 或长度10（不含）-15（含）cm。
A66: 63 | B66: E | C66: 120600004 | D66: 换药(小) | F66: 药物、引流管 | G66: 次 | H66: 创面15（含）cm2以下或长度10（含）cm以下。
A67: 64 | B67: E | C67: 120600004-1 | D67: 门诊拆线(小) | F67: 药物、引流管 | G67: 次 | H67: 创面15（含）cm2以下或长度10（含）cm以下。
A68: 65 | B68: E | C68: 120600004-2 | D68: 外擦药物治疗(小) | F68: 药物、引流管 | G68: 次 | H68: 创面15（含）cm2以下或长度10（含）cm以下。
A69: 66 | B69: E | C69: 120600004-3 | D69: 外敷药物治疗(小) | F69: 药物、引流管 | G69: 次 | H69: 创面15（含）cm2以下或长度10（含）cm以下。
A70: 67 | B70: E | C70: 120600004-4 | D70: 封包换药(小) | F70: 药物、引流管 | G70: 次 | H70: 创面15（含）cm2以下或长度10（含）cm以下。
A71: 68 | B71: E | C71: 120800001 | D71: 鼻饲管置管 | F71: 药物和一次性胃肠管
A72: 69 | B72: E | C72: 120800001-1 | D72: 鼻饲管置管 | F72: 药物和一次性胃肠管 | G72: 次
A73: 70 | B73: E | C73: 120800001-2 | D73: 注食、注药、十二指肠灌注 | F73: 药物和一次性胃肠管、注食器、灌食器 | G73: 日
A74: 71 | B74: E | C74: 120800001-2/1 | D74: 注食、注药、十二指肠灌注加收(使用各种泵) | G74: 每小时
A75: 72 | B75: E | C75: 120800002 | D75: 肠内营养治疗 | E75: 指经腹部造瘘置管或经鼻空肠置管，含肠内营养液配置。限不能进食的病人。 | F75: 营养泵管 | G75: 日
A76: 73 | B76: E | C76: 120800002-1 | D76: 肠内营养治疗加收(使用各种泵) | G76: 每小时
A77: 74 | B77: E | C77: 120900001 | D77: 胃肠减压 | E77: 含留置胃管抽胃液及间断减压。 | F77: 一次性胃管 | G77: 日
A78: 75 | B78: E | C78: 121000001 | D78: 洗胃 | E78: 含插胃管及冲洗。 | F78: 药物、一次性胃管、一次性胃食道插管导引管 | G78: 次
A79: 76 | B79: E | C79: 121000001-1 | D79: 洗胃机洗胃 | E79: 含插胃管及冲洗。 | F79: 药物、一次性胃管、一次性胃食道插管导引管 | G79: 次
A80: 77 | B80: E | C80: 121100001 | D80: 一般物理降温 | G80: 次
A81: 78 | B81: E | C81: 121100001-1 | D81: 酒精擦浴 | G81: 次
A82: 79 | B82: E | C82: 121100001-2 | D82: 冰袋降温 | G82: 次 | H82: 冰袋降温每天收费不超过12次。
A83: 80 | B83: E | C83: 121100001-2/1 | D83: 冰帽降温 | G83: 次
A84: 81 | B84: E | C84: 121100002 | D84: 特殊物理降温 | E84: 指使用专用设备降温。 | G84: 小时
A85: 82 | B85: E | C85: 121100002-1 | D85: 特殊物理升温 | E85: 指使用专用设备升温。 | G85: 小时
A86: 83 | B86: E | C86: 121300001 | D86: 冷热湿敷 | F86: 药物 | G86: 次
A87: 84 | B87: E | C87: 121500001 | D87: 灌肠 | G87: 次
A88: 85 | B88: E | C88: 121500001-1 | D88: 一般灌肠 | G88: 次
A89: 86 | B89: E | C89: 121500001-2 | D89: 保留灌肠 | G89: 次
A90: 87 | B90: E | C90: 121500001-3 | D90: 三通氧气灌肠 | G90: 次
A91: 88 | B91: E | C91: 121500002 | D91: 清洁灌肠 | E91: 指经肛门清洁灌肠。 | G91: 次
A92: 89 | B92: E | C92: 121500002-1 | D92: 回流灌肠 | G92: 次 | H92: 不得同时收取清洁灌肠费。
A93: 90 | B93: E | C93: 121600001 | D93: 导尿 | F93: 导尿包、尿管、尿套及尿袋
A94: 91 | B94: E | C94: 121600001-1 | D94: 导尿 | F94: 导尿包、尿管、尿套及尿袋 | G94: 次
A95: 92 | B95: E | C95: 121600003 | D95: 膀胱冲洗 | F95: 一次性膀胱冲洗材料 | G95: 次
A96: 93 | B96: E | C96: 121600004 | D96: 持续膀胱冲洗 | F96: 一次性冲洗材料、冲洗液 | G96: 日
A97: 94 | B97: E | C97: 121700001 | D97: 肛管排气 | G97: 次
A98: 95 | B98: D | C98: 121700002S | D98: 直肠指力刺激 | E98: 指人工辅助通便，用于中风、脑外伤、脊髓损伤等导致排便功能障碍的病人及老年长期便秘患者。 | G98: 次
A99: 96 | B99: E | C99: 121800001S | D99: 伤口负压辅助愈合治疗 | E99: 应用指征：①创伤：大面积皮肤缺损、撕脱伤、脱套伤；②骨科：开放性骨折合并软组织缺损、肌腱外露或骨外露、慢性骨髓炎合并创面经久不愈合、骨筋膜室综合症；③普外科：乳腺癌根治术后创面引流、直肠癌Miles根治术后引流、会阴部创面的引流；④烧伤：一期缝合后无法植皮的烧伤创面；⑤其他：糖尿病性溃疡、褥疮 、植皮后对植皮区保护、其他外科手术后伤口严重感染、迁延不愈。伤口内的负压须实时监测。含慢性溃疡修复术、清创缝合、引流管引流、换药等。 | F99: 负压辅助愈合治疗系统耗材 | G99: 次
A100: 97 | B100: E | C100: 121800001S-1 | D100: 特大伤口负压辅助愈合治疗 | E100: 应用指征：①创伤：大面积皮肤缺损、撕脱伤、脱套伤；②骨科：开放性骨折合并软组织缺损、肌腱外露或骨外露、慢性骨髓炎合并创面经久不愈合、骨筋膜室综合症；③普外科：乳腺癌根治术后创面引流、直肠癌Miles根治术后引流、会阴部创面的引流；④烧伤：一期缝合后无法植皮的烧伤创面；⑤其他：糖尿病性溃疡、褥疮 、植皮后对植皮区保护、其他外科手术后伤口严重感染、迁延不愈。伤口内的负压须实时监测。含慢性溃疡修复术、清创缝合、引流管引流、换药等。 | F100: 负压辅助愈合治疗系统耗材 | G100: 次 | H100: 创面400cm2（含）以上。
...

Sheet 药学类医疗服务价格项目废止表
A1: 药学类医疗服务价格项目废止表
A2: 序号 | B2: 财务分类 | C2: 编码 | D2: 项目名称 | E2: 项目内涵 | F2: 除外内容 | G2: 计价单位 | H2: 说明
A3: 1 | B3: E | C3: 120400013 | D3: 化学药物配置 | G3: 组
A4: 2 | B4: E | C4: 120400013-1 | D4: 抗肿瘤化学药物配置 | E4: 指在符合静脉药物集中配置管理规定、有严格消毒隔离措施的中心配置间或普通药物配置间进行抗肿瘤化学药物配置。 | G4: 组
A5: 3 | B5: E | C5: 120400013-2 | D5: 全静脉营养液配置 | E5: 指在符合静脉营养药物配置管理规定，有严格消毒隔离措施的中心配置间或普通药物配制间里进行全静脉营养液配置。 | F5: 营养袋 | G5: 组
A6: 4 | B6: E | C6: 120400013-3 | D6: 其他静脉药物配置 | E6: 指在符合静脉药物集中配置管理规定、有严格消毒隔离措施的中心配置间里进行静脉药物配置。 | G6: 组
A7: 5 | B7: E | C7: 120400014S | D7: 百级静脉用药药物调配 | E7: 指在超净配药装置内创建局部密闭百级洁净环境，使用无菌溶药器进行配药。含一次性使用无菌无芯杆溶药器带针。 | G7: 组
A8: 6 | B8: H | C8: 250309005 | D8: 血清药物浓度测定 | G8: 每种药物
A9: 7 | B9: H | C9: 250309005-1 | D9: 血清药物浓度测定-免疫学法 | G9: 每种药物
A10: 8 | B10: H | C10: 250309005-2 | D10: 血清药物浓度测定-质谱法 | E10: 指色谱、质谱法检测血清药物浓度。 | G10: 每种药物
A11: 9 | B11: H | C11: 250309005-3 | D11: 血清药物浓度测定-多抗法 | G11: 每种药物
A12: 10 | B12: H | C12: 250309005-4 | D12: 血清药物浓度测定-单抗法 | G12: 每种药物
A13: 11 | B13: E | C13: 480000003 | D13: 中药特殊调配
A14: 12 | B14: E | C14: 480000003-1 | D14: 煎膏调配 | G14: 剂
A15: 13 | B15: E | C15: 480000003-2 | D15: 合剂调配 | G15: 百克
A16: 14 | B16: E | C16: 480000003-3 | D16: 胶囊剂调配 | G16: 百克
A17: 15 | B17: E | C17: 480000003-4 | D17: 蜜丸调配 | G17: 百克
A18: 16 | B18: E | C18: 480000003-5 | D18: 水蜜丸调配 | G18: 百克
A19: 17 | B19: E | C19: 480000003-6 | D19: 水丸调配 | G19: 百克
A20: 18 | B20: E | C20: 480000003-7 | D20: 散剂调配 | G20: 百克
A21: 19 | B21: I | C21: 480000004 | D21: 人工煎药 | G21: 剂
A22: 20 | B22: I | C22: 480000005 | D22: 煎药机煎药 | G22: 剂

Sheet 病理类医疗服务价格项目废止表
A1: 病理类医疗服务价格项目废止表
A2: 序号 | B2: 财务分类 | C2: 编码 | D2: 项目名称 | E2: 项目内涵 | F2: 除外内容 | G2: 计价单位 | H2: 说明
A3: 1 | B3: H | C3: 250700017-5 | D3: 白血病融合基因分型-FISH | G3: 每种
A4: 2 | B4: H | C4: 250700017-6 | D4: 其他疾病的基因分型-FISH | G4: 每种
A5: 3 | B5: H | C5: 250700017-7 | D5: 基因表达定量-FISH | G5: 每种
A6: 4 | B6: H | C6: 250700017-8 | D6: 基因突变及多态性分析-FISH | G6: 每种
A7: 5 | B7: H | C7: 250700021S-2 | D7: Y染色体(AZF基因)微缺失检测-荧光(FISH)法 | G7: 项
A8: 6 | B8: H | C8: 250700021S-4 | D8: 其他染色体微缺失检测-荧光(FISH)法 | G8: 项
C9: 27 | D9: 病理检查
A10: 7 | B10: H | C10: 270000000-1 | D10: 病理标本检查与诊断加收（特异性感染标本） | E10: 冰冻切片、快速石蜡、体液细胞（胸水、腹水、心包液）、脱落细胞（尿、痰、宫颈、窥镜刷片）标本。 | G10: 例
C11: 2701 | D11: 1.尸体解剖与防腐处理
A12: 8 | B12: H | C12: 270100001 | D12: 尸检病理诊断 | E12: 含7岁及以上儿童及成人尸解、尸检后常规缝合处理、尸检标本的组织病理诊断、尸检废弃物处理；不含组织病理学诊断中使用的特殊病理技术、尸检后对遗体的特殊处理，如：遗体火化或掩埋；肢体离断或大面积撕裂尸体的复杂修复与整容等。 | G12: 次 | H12: 局部解剖诊断按全身解剖计价。
A13: 9 | B13: H | C13: 270100001-1 | D13: 尸体尸检病理诊断加收(传染病和特异性感染病) | G13: 次
A14: 10 | B14: H | C14: 270100002 | D14: 儿童及胎儿尸检病理诊断 | E14: 指7岁以下儿童及胎儿尸解，其余同尸检病理诊断。 | G14: 次
A15: 11 | B15: H | C15: 270100003 | D15: 尸体化学防腐处理 | E15: 含各种手术操作及消耗材料、废弃物处理。 | F15: 防腐药物 | G15: 次
C16: 2702 | D16: 2.细胞病理学检查与诊断 | E16: 不含采集标本的临床操作、细胞病理学标本的非常规诊断技术，如：电镜检查、组织化学与免疫组化染色、图象分析技术、流式细胞术、计算机细胞筛选技术、分子病理学检查等。 | H16: 以两张涂（压）片为基价。
A17: 12 | B17: H | C17: 270200000-1 | D17: 细胞病理学检查与诊断加收(超过两张涂压片) | G17: 片
A18: 13 | B18: H | C18: 270200001 | D18: 体液细胞学检查与诊断 | E18: 指胸水、腹水、心包液、脑脊液、精液、各种囊肿穿刺液、唾液、龈沟液的细胞学检查与诊断。 | G18: 例 | H18: 每种标本计价一次。
A19: 14 | B19: H | C19: 270200001-1 | D19: 体液细胞学检查与诊断加收(塑料包埋标本) | G19: 例
A20: 15 | B20: H | C20: 270200002 | D20: 拉网细胞学检查与诊断 | E20: 指食管、胃等拉网细胞学检查与诊断。 | G20: 例
A21: 16 | B21: H | C21: 270200003 | D21: 细针穿刺细胞学检查与诊断 | E21: 指各种实质性脏器的细针穿刺标本的涂片（压片）检查及诊断。 | G21: 例
A22: 17 | B22: H | C22: 270200004 | D22: 脱落细胞学检查与诊断 | E22: 指脑脊液、子宫内膜、宫颈、阴道、痰、口腔粘液涂片、乳腺溢液、窥镜刷片及其他脱落细胞学的各种涂片检查及诊断。 | G22: 例 | H22: 每种标本计价一次。
A23: 18 | B23: H | C23: 270200005 | D23: 细胞学计数 | E23: 不含骨髓涂片计数。 | G23: 例
A24: 19 | B24: H | C24: 270200005-1 | D24: 支气管灌洗液细胞计数 | E24: 不含骨髓涂片计数。 | G24: 例
A25: 20 | B25: H | C25: 270200005-2 | D25: 脑脊液细胞计数 | E25: 不含骨髓涂片计数。 | G25: 例
C26: 2703 | D26: 3.组织病理学检查与诊断 | E26: 不含采集标本的临床操作、组织病理学标本的非常规诊断技术，如：电镜检查、组织化学与免疫组化染色、图象分析技术、 流式细胞术、计算机细胞筛选技术、 分子病理学检查等。
A27: 21 | B27: H | C27: 270300001 | D27: 穿刺组织活检检查与诊断 | E27: 指肾、乳腺、体表肿块等穿刺组织活检及诊断。 | G27: 例 | H27: 以两个蜡块为基价。每种组织计价一次。
A28: 22 | B28: H | C28: 270300001-1/1 | D28: 穿刺组织活检检查与诊断加收(超过两个蜡块) | G28: 每个蜡块
A29: 23 | B29: H | C29: 270300001-2 | D29: 各种体液细胞沉渣切片检查与诊断 | G29: 例 | H29: 以两个蜡块为基价。
A30: 24 | B30: H | C30: 270300001-2/1 | D30: 各种体液细胞沉渣切片检查与诊断加收(超过两个蜡块) | G30: 每个蜡块
A31: 25 | B31: H | C31: 270300002 | D31: 内镜组织活检检查与诊断 | G31: 例 | H31: 以两个蜡块为基价。
A32: 26 | B32: H | C32: 270300002-1 | D32: 内镜组织活检检查与诊断加收(超过两个蜡块) | G32: 每个蜡块
A33: 27 | B33: H | C33: 270300003 | D33: 局部切除组织活检检查与诊断 | E33: 指切除组织、咬取组织、切除肿块部分组织的活检。 | G33: 每个部位 | H33: 以两个蜡块为基价。
A34: 28 | B34: H | C34: 270300003-1 | D34: 局部切除组织活检检查与诊断加收(超过两个蜡块) | G34: 每个蜡块
A35: 29 | B35: H | C35: 270300004 | D35: 骨髓组织活检检查与诊断 | E35: 指骨髓组织标本常规染色检查。 | G35: 例
A36: 30 | B36: H | C36: 270300005 | D36: 手术标本检查与诊断 | E36: 含标本处理。 | G36: 例 | H36: 以两个蜡块为基价。
A37: 31 | B37: H | C37: 270300005-1 | D37: 手术标本检查与诊断加收(超过两个蜡块) | G37: 每个蜡块
A38: 32 | B38: H | C38: 270300005-2 | D38: 手术标本检查与诊断加收(塑料包埋) | G38: 例
A39: 33 | B39: H | C39: 270300006 | D39: 截肢标本病理检查与诊断 | E39: 含标本处理，指上下肢截肢标本等。 | G39: 每肢、每指（趾） | H39: 以两个蜡块为基价。
A40: 34 | B40: H | C40: 270300006-1 | D40: 截肢标本病理检查与诊断加收(超过两个蜡块) | G40: 每个蜡块
A41: 35 | B41: H | C41: 270300006-2 | D41: 截肢标本病理检查与诊断加收(不脱钙直接切片标本) | G41: 每肢、每指（趾）
A42: 36 | B42: H | C42: 270300007 | D42: 牙齿及骨骼磨片诊断(不脱钙) | E42: 含标本处理。 | G42: 例
A43: 37 | B43: H | C43: 270300008 | D43: 牙齿及骨骼磨片诊断(脱钙) | E43: 含标本处理。 | G43: 例
A44: 38 | B44: H | C44: 270300009 | D44: 颌骨样本及牙体牙周样本诊断 | E44: 含标本处理。 | G44: 例 | H44: 以两个蜡块为基价。
A45: 39 | B45: H | C45: 270300009-1 | D45: 颌骨样本及牙体牙周样本诊断加收(超过两个蜡块) | G45: 每个蜡块
A46: 40 | B46: H | C46: 270300009-2 | D46: 颌骨样本及牙体牙周样本诊断加收(不脱钙直接切片标本) | G46: 例
A47: 41 | B47: H | C47: 270300010 | D47: 全器官大切片检查与诊断 | G47: 例
A48: 42 | B48: H | C48: 270300011N | D48: 使用全自动HE染色诊断加收 | E48: 指病理医师进行标本检查和取材，自动组织处理机脱水、透明，由技师进行石蜡组织包埋机包埋，组织切片机切片，自动染色机进行全自动常规HE染色、自动封片，由病理医师在显微镜下做出病理诊断，病理报告。 | G48: 每张切片
C49: 2704 | D49: 4.冰冻切片与快速石蜡切片检查与诊断 | E49: 不含非常规的特殊染色技术。 | H49: 以两块切片组织为基数。
A50: 43 | B50: H | C50: 270400000-1 | D50: 冰冻切片与快速石蜡切片检查与诊断加收(超过两块组织) | G50: 每块
A51: 44 | B51: H | C51: 270400001 | D51: 冰冻切片检查与诊断 | G51: 例 | H51: 以两块切片组织为基数。
A52: 45 | B52: H | C52: 270400002 | D52: 快速石蜡切片检查与诊断 | G52: 例 | H52: 以两块切片组织为基数。
A53: 46 | B53: H | C53: 270400002-1 | D53: 快速细胞病理诊断 | G53: 例 | H53: 以两块切片组织为基数。
C54: 2705 | D54: 5.特殊染色诊断技术
A55: 47 | B55: H | C55: 270500001 | D55: 特殊染色及酶组织化学染色诊断 | G55: 每个标本，每种染色
A56: 48 | B56: H | C56: 270500002 | D56: 免疫组织化学染色诊断 | G56: 每个标本，每种染色
A57: 49 | B57: H | C57: 270500002-1 | D57: 免疫组织化学染色诊断(全自动单独温控法) | G57: 每个标本，每种染色
A58: 50 | B58: H | C58: 270500003 | D58: 免疫荧光染色诊断 | G58: 每个标本，每种染色
A59: 51 | B59: H | C59: 270500004N | D59: 全自动病理组织/细胞特殊染色及诊断 | E59: 指除HE和巴氏以外的组织化学染色。适用于石蜡包埋组织，新鲜冷冻组织，细胞涂片，于组织切片机切片，进行二甲苯脱蜡，系列乙醇水化，然后在全自动特殊染色机上进行并实现标准化的全自动特殊染色流程，实现染色过程中的质量控制；染色结束后由病理医生进行判读结果。含上述技术过程中所产生的废液、废物的处理。包括：胶原纤维染色、网状纤维染色、弹力纤维染色、肌肉组织染色、脂肪染色、糖原染色、粘液染色、病原微生物染色等。 | G59: 项
C60: 2706 | D60: 6.电镜病理诊断 | E60: 均含标本制备。
A61: 52 | B61: H | C61: 270600001 | D61: 普通透射电镜检查与诊断 | G61: 每个标本
A62: 53 | B62: H | C62: 270600002 | D62: 免疫电镜检查与诊断 | G62: 每个标本
A63: 54 | B63: H | C63: 270600003 | D63: 扫描电镜检查与诊断 | G63: 每个标本
C64: 2707 | D64: 7.分子病理学诊断技术
A65: 55 | B65: H | C65: 270700001 | D65: 原位杂交技术
A66: 56 | B66: H | C66: 270700001-1 | D66: 原位杂交技术-显色法(CISH) | G66: 项
A67: 57 | B67: H | C67: 270700001-2 | D67: 原位杂交技术-荧光法(FISH) | G67: 项
A68: 58 | B68: H | C68: 270700002 | D68: 印迹杂交技术 | E68: 指Southern 、Northern、 Western等杂交技术。 | G68: 项
A69: 59 | B69: H | C69: 270700003 | D69: 脱氧核糖核酸(DNA)测序 | E69: 适用Sanger测序、焦磷酸测序及片段分析技术。 | G69: 位点 | H69: 收费最高不超过12位点。
A70: 60 | B70: H | C70: 270700004S-2 | D70: 组织切片基因检测-原位杂交 | G70: 次
A71: 61 | B71: H | C71: 270700008S | D71: 组织样本基因检测 | E71: 指对组织或体液样本的检测。
A72: 62 | B72: H | C72: 270700008S-1 | D72: 组织样本DNA/RNA的PCR基因检测 | E72: 指对组织或体液样本的检测。取样本，提取DNA/RNA，采用PCR法，进行单个或多个基因的部分位点的检测，并出具临床检测报告。 | G72: 位点
A73: 63 | B73: H | C73: 270700008S-1/1 | D73: 组织样本DNA/RNA的PCR基因检测加收（超过一个位点） | E73: 指检测多位点时每增加一个位点加收。 | G73: 位点 | H73: 基因检测加收不超过10个位点。
A74: 64 | B74: H | C74: 270700010N | D74: PD-L1蛋白伴随诊断 | E74: 石蜡标本，切片，脱蜡，抗原抗体反应，显色，判读结果，出具病理诊断报告。 | G74: 次
A75: 65 | B75: H | C75: 270700011N | D75: ALK蛋白伴随诊断 | E75: 通过检测特定的蛋白或基因，病理医师使用显微镜下观察并结合临床及相关检查资料综合分析后，出具病理诊断报告。 | G75: 项
C76: 2708 | D76: 8.其他病理技术项目
A77: 66 | B77: H | C77: 270800001 | D77: 病理体视学检查与图象分析 | E77: 指流式细胞仪、显微分光光度技术等。 | G77: 次
A78: 67 | B78: H | C78: 270800002 | D78: 宫颈细胞学计算机辅助诊断 | G78: 次
A79: 68 | B79: H | C79: 270800003 | D79: 膜式病变细胞采集术 | E79: 指细胞病理学检查中使用的特殊膜式细胞采集方法。 | G79: 次
A80: 69 | B80: H | C80: 270800004 | D80: 液基薄层细胞制片术 | E80: 指液基细胞学薄片技术和液基细胞学超薄片技术。 | G80: 次
A81: 70 | B81: H | C81: 270800005 | D81: 病理大体标本摄影 | G81: 每个标本 | H81: 积累科研资料的摄影不得计价。
A82: 71 | B82: H | C82: 270800006 | D82: 显微摄影术 | G82: 每个视野 | H82: 积累科研资料的摄影不得计价。
A83: 72 | B83: C | C83: 270800009S | D83: 会诊组织切白片 | E83: 指送院外诊治的各类组织切片。 | G83: 片
A84: 73 | B84: C | C84: 270800010S | D84: 会诊组织切片常规染色 | G84: 片
A85: 74 | B85: D | C85: 310100020 | D85: 周围神经活检术 | G85: 每个切口 | H85: 同一切口取肌肉和神经标本时以一项计价。
A86: 75 | B86: D | C86: 310100020-1 | D86: 肌肉活检术 | G86: 每个切口 | H86: 同一切口取肌肉和神经标本时以一项计价。
A87: 76 | B87: G | C87: 310401049-5 | D87: 外耳道活检术 | G87: 次
A88: 77 | B88: D | C88: 310402011 | D88: 蝶窦穿刺活检术 | G88: 次
A89: 78 | B89: D | C89: 310402013 | D89: 鼻腔取活检术 | G89: 次
A90: 79 | B90: D | C90: 310402016 | D90: 鼻咽部活检术 | G90: 次
A91: 80 | B91: D | C91: 310402016-1 | D91: 声带活检术 | G91: 次
A92: 81 | B92: D | C92: 310402016-2 | D92: 声门下活检术 | G92: 次
A93: 82 | B93: E | C93: 310403017S | D93: 喉部肿物活检术 | G93: 次
A94: 83 | B94: E | C94: 310403017S-1 | D94: 内镜下喉部肿物活检术 | G94: 次
A95: 84 | B95: D | C95: 310510012 | D95: 口腔活检术 | E95: 含口腔软组织活检。 | G95: 次
A96: 85 | B96: D | C96: 310510012-1 | D96: 口腔软组织活检 | G96: 次
A97: 86 | B97: G | C97: 310516004 | D97: 口腔关节镜手术治疗 | E97: 含颞下颌关节盘复位术或骨关节病刨削术。 | F97: 特殊材料 | G97: 单侧
A98: 87 | B98: G | C98: 310516004-1 | D98: 口腔关节镜手术治疗加收(关节下腔治疗) | G98: 单侧
A99: 88 | B99: G | C99: 310516004-2 | D99: 关节镜下颞下颌关节活检术 | F99: 特殊材料 | G99: 单侧
A100: 89 | B100: G | C100: 310604006 | D100: 经皮穿刺肺活检术 | E100: 不含CT、X线、B超引导。 | G100: 每处
...

Sheet 手术和治疗辅助操作类医疗服务价格项目废止表
B1: 手术和治疗辅助操作类医疗服务价格项目废止表
A2: 序号 | B2: 财务分类 | C2: 编码 | D2: 项目名称 | E2: 项目内涵 | F2: 除外内容 | G2: 计价单位 | H2: 说明
A3: 1 | B3: D | C3: 210101004 | D3: C型臂术中透视 | G3: 半小时
A4: 2 | B4: D | C4: 210101004-1 | D4: C型臂术中透视(使用影像增强器或电视屏) | G4: 半小时
A5: 3 | B5: D | C5: 210102017 | D5: 非血管介入临床操作数字减影(DSA)引导 | G5: 次
A6: 4 | B6: D | C6: 210200008 | D6: 临床操作的磁共振引导 | G6: 每半小时
A7: 5 | B7: D | C7: 220201009 | D7: 临床操作的B超引导 | G7: 每半小时
A8: 6 | B8: D | C8: 220202003 | D8: 临床操作的腔内B超引导 | G8: 每半小时
A9: 7 | B9: D | C9: 210300005 | D9: 临床操作的CT引导 | G9: 每半小时
A10: 8 | B10: D | C10: 220302012 | D10: 临床操作的彩色多普勒超声引导 | G10: 每半小时
A11: 9 | B11: G | C11: 300000000-1 | D11: 使用双电极电凝器(PK)刀加收 | G11: 次
A12: 10 | B12: G | C12: 300000000-2 | D12: 使用双极电凝钳加收 | G12: 次
A13: 11 | B13: G | C13: 300000000-3 | D13: 使用氩气刀加收 | G13: 次
A14: 12 | B14: G | C14: 300000000-4 | D14: 使用超声刀加收(基准项目价格在1500元以下) | G14: 次 | H14: 基准项目不含三大类和31、32、33大类加收及麻醉项目。
A15: 13 | B15: G | C15: 300000000-5 | D15: 使用等离子刀加收(基准项目价格在1500元以下) | G15: 次 | H15: 基准项目不含三大类和31、32、33大类加收及麻醉项目。
A16: 14 | B16: G | C16: 300000000-6 | D16: 使用血管闭合系统加收(基准项目价格在1500元以下) | G16: 次 | H16: 基准项目不含三大类和31、32、33大类加收及麻醉项目。
A17: 15 | B17: G | C17: 300000000-7 | D17: 使用超声刀加收(基准项目价格1500-2500元) | G17: 次 | H17: 基准项目不含三大类和31、32、33大类加收及麻醉项目。
A18: 16 | B18: G | C18: 300000000-8 | D18: 使用等离子刀加收(基准项目价格1500-2500元) | G18: 次 | H18: 基准项目不含三大类和31、32、33大类加收及麻醉项目。
A19: 17 | B19: G | C19: 300000000-9 | D19: 使用血管闭合系统加收(基准项目价格1500-2500元) | G19: 次 | H19: 基准项目不含三大类和31、32、33大类加收及麻醉项目。
A20: 18 | B20: G | C20: 300000000-10 | D20: 使用超声刀加收(基准项目价格在2500元以上) | G20: 次 | H20: 基准项目不含三大类和31、32、33大类加收及麻醉项目。
A21: 19 | B21: G | C21: 300000000-11 | D21: 使用等离子刀加收(基准项目价格在2500元以上) | G21: 次 | H21: 基准项目不含三大类和31、32、33大类加收及麻醉项目。
A22: 20 | B22: G | C22: 300000000-12 | D22: 使用血管闭合系统加收(基准项目价格在2500元以上) | G22: 次 | H22: 基准项目不含三大类和31、32、33大类加收及麻醉项目。
A23: 21 | B23: G | C23: 300000000-13 | D23: 使用动力钻加收 | G23: 次
A24: 22 | B24: G | C24: 300000000-14 | D24: 使用动力磨加收 | G24: 次
A25: 23 | B25: G | C25: 300000000-15 | D25: 使用动力锯加收 | G25: 次
A26: 24 | B26: E | C26: 300000000-16 | D26: 使用骨动力系统加收 | G26: 次 | H26: 超声骨刀按此项目收费。
A27: 25 | B27: G | C27: 300000000-17 | D27: 使用微动力系统加收 | G27: 次
A28: 26 | B28: G | C28: 300000000-18 | D28: 使用电动取皮刀加收 | G28: 次
A29: 27 | B29: G | C29: 300000000-19 | D29: 使用螺旋水刀加收 | G29: 次
A30: 28 | B30: G | C30: 300000000-20 | D30: 使用血管解剖刀加收 | G30: 次
A31: 29 | B31: E | C31: 300000000-21 | D31: 使用超声吸引辅助操作加收 | G31: 次 | H31: 超声吸引骨刀按此项目收费。
A32: 30 | B32: G | C32: 300000000-22 | D32: 使用激光刀加收 | G32: 次
A33: 31 | B33: G | C33: 300000000-23 | D33: 使用钬激光加收 | G33: 次
A34: 32 | B34: G | C34: 300000000-24 | D34: 使用荧光显影辅助操作加收 | G34: 次
A35: 33 | B35: G | C35: 300000000F-1 | D35: 个体化3D模型重建 | E35: 根据患者病变的CT数据使用专用计算机辅助软件重建3D模型。 | G35: 次
A36: 34 | B36: G | C36: 300000000F-2 | D36: 个体化3D模型制备 | E36: 打印出实体模型结构。 | G36: 次
A37: 35 | B37: G | C37: 300000000F-3 | D37: 个体化3D手术导版制备 | E37: 打印出实体模型结构。 | G37: 次
A38: 36 | B38: G | C38: 300000000F-4 | D38: 个体化3D可视化手术模型 | E38: 使用各种虚拟现实、增强现实、混合现实、全息影像手段实现术中实时导航。 | G38: 次
A39: 37 | B39: G | C39: 310000000-9 | D39: 诊疗中使用尿道、膀胱镜加收 | G39: 次
A40: 38 | B40: G | C40: 310000000-11 | D40: 诊疗中使用电子显微镜加收 | G40: 次
A41: 39 | B41: G | C41: 310000000-12 | D41: 诊疗中使用其他内镜加收 | G41: 次
A42: 40 | B42: E | C42: 310605017F | D42: 经支气管镜虚拟导航 | E42: 通过重建好的胸部CT数据以医学数字成像和通信数据格式输入导航系统。通过处理CT数据，进行手术规划、标定肺病灶部位以及制定路径。 | G42: 次
A43: 41 | B43: G | C43: 330000000-1 | D43: 术中使用神经手术导航系统加收 | G43: 次
A44: 42 | B44: G | C44: 330000000-8 | D44: 术中使用腹腔镜加收 | G44: 次
A45: 43 | B45: G | C45: 330000000-12 | D45: 术中使用显微镜加收 | G45: 次
A46: 44 | B46: G | C46: 330000000-14 | D46: 术中负极板回路垫重复使用加收 | G46: 次
A47: 45 | B47: G | C47: 330000000-19 | D47: 裸眼3D可视化手术动态显示系统加收 | E47: 不含使用各类腔镜加收。 | G47: 次
A48: 46 | B48: G | C48: 330406000F-1 | D48: 眼科显微手术导航加收 | E48: 适用于屈光性白内障手术、玻璃体视网膜手术、角膜移植手术、青光眼手术等。 | G48: 次
A49: 47 | B49: G | C49: 331004020-1 | D49: 肛周常见疾病手术治疗加收(激光法) | G49: 次
A50: 48 | B50: G | C50: 331005010 | D50: 开腹恶性肿瘤特殊治疗 | E50: 含注药。 | G50: 次
A51: 49 | B51: G | C51: 331005010-1 | D51: 开腹恶性肿瘤特殊治疗加收(激光) | E51: 含注药。 | G51: 次
A52: 50 | B52: G | C52: 331005010-2 | D52: 开腹恶性肿瘤特殊治疗加收(射频消融) | E52: 含注药。 | G52: 次
A53: 51 | B53: G | C53: 331005010-3 | D53: 开腹恶性肿瘤特殊治疗加收(微波) | E53: 含注药。 | G53: 次
A54: 52 | B54: G | C54: 331005010-4 | D54: 开腹恶性肿瘤特殊治疗加收(冷冻) | E54: 含注药。 | G54: 次
A55: 53 | B55: G | C55: 331008013 | D55: 腹腔恶性肿瘤特殊治疗 | E55: 指微波、冷冻法。 | G55: 次
A56: 54 | B56: G | C56: 331008013-1 | D56: 腹腔恶性肿瘤特殊治疗加收(激光) | G56: 次
A57: 55 | B57: G | C57: 331008013-2 | D57: 腹腔恶性肿瘤特殊治疗加收(射频消融) | G57: 次
A58: 56 | B58: G | C58: 331500000F-1 | D58: 骨科手术导航辅助加收 | E58: 应用计算机导航系统显示骨骼影像，达到手术导航的目的。 | G58: 次
A59: 57 | B59: G | C59: 331700001F | D59: 人工智能辅助治疗技术 | E59: 使用机器人智能手术平台或系统辅助开展普通外科、胸外科、泌尿外科、妇科、头颈外科以及心脏手术等领域的手术。 | G59: 次/人
A60: 58 | B60: G | C60: 331602016N | D60: 水动力清创术 | E60: 使用水动力治疗设备，对各种皮肤溃疡、感染创面、肌肉组织进行切除，同时回吸创面上的失活组织、细菌、污染物和生物膜。 | F60: 一次性使用清创水动力刀头 | G60: 次

Sheet 眼科类医疗服务价格项目废止表
A1: 眼科类医疗服务价格项目废止表
A2: 序号 | B2: 财务分类 | C2: 编码 | D2: 项目名称 | E2: 项目内涵 | F2: 除外内容 | G2: 计价单位 | H2: 说明
C3: 3103 | D3: 3.眼部
A4: 1 | B4: D | C4: 310300001 | D4: 普通视力检查 | E4: 含远视力、近视力、光机能（包括光感及光定位）、伪盲检查。 | G4: 次/双
A5: 2 | B5: D | C5: 310300002 | D5: 特殊视力检查 | E5: 含儿童图形视力表、点视力表、条栅视力卡、视动性眼震仪。 | G5: 项
A6: 3 | B6: D | C6: 310300003 | D6: 选择性观看检查 | G6: 次/双
A7: 4 | B7: D | C7: 310300004 | D7: 视网膜视力检查 | G7: 次/只
A8: 5 | B8: D | C8: 310300005 | D8: 视野检查 | E8: 指普通视野计、电脑视野计、动态（Goldmann）视野计。 | G8: 次/只
A9: 6 | B9: D | C9: 310300006 | D9: 阿姆斯勒(Amsler)表检查 | G9: 次/双
A10: 7 | B10: D | C10: 310300007 | D10: 验光 | G10: 项
A11: 8 | B11: D | C11: 310300007-1 | D11: 检影 | G11: 项
A12: 9 | B12: D | C12: 310300007-2 | D12: 散瞳 | G12: 项
A13: 10 | B13: D | C13: 310300007-3 | D13: 云雾试验 | G13: 项
A14: 11 | B14: D | C14: 310300007-4 | D14: 试镜 | G14: 项
A15: 12 | B15: E | C15: 310300008 | D15: 镜片检测 | G15: 次/双
A16: 13 | B16: E | C16: 310300009 | D16: 隐形眼镜配置 | E16: 含验光、角膜曲率测量、泪液分泌功能（Schirmer）测定。 | G16: 次
A17: 14 | B17: D | C17: 310300010 | D17: 主导眼检查 | G17: 次/只
A18: 15 | B18: D | C18: 310300011 | D18: 代偿头位测定 | E18: 含使用头位检测仪。 | G18: 次/双
A19: 16 | B19: D | C19: 310300012 | D19: 复视检查 | G19: 次
A20: 17 | B20: D | C20: 310300013 | D20: 斜视度测定 | E20: 含九个注视方向双眼分别注视时的斜度，看远及看近。 | G20: 次/双
A21: 18 | B21: D | C21: 310300013-1 | D21: 视野弧查斜视角 | G21: 次/双
A22: 19 | B22: D | C22: 310300014 | D22: 三棱镜检查 | G22: 次/双
A23: 20 | B23: D | C23: 310300015 | D23: 线状镜检查 | G23: 次/只
A24: 21 | B24: D | C24: 310300016 | D24: 黑氏(Hess)屏检查 | G24: 次/双
A25: 22 | B25: D | C25: 310300017 | D25: 调节/集合测定 | G25: 次/双
A26: 23 | B26: D | C26: 310300018 | D26: 牵拉试验 | E26: 含有无复视及耐受程度、被动牵拉、主动收缩。 | G26: 次/只
A27: 24 | B27: D | C27: 310300019 | D27: 双眼视觉检查 | E27: 含双眼同时知觉、双眼同时视、双眼融合功能、立体视功能。 | G27: 次/双
A28: 25 | B28: D | C28: 310300019-1 | D28: 固视野检查 | G28: 次/双
A29: 26 | B29: D | C29: 310300020 | D29: 色觉检查
A30: 27 | B30: D | C30: 310300020-1 | D30: 色觉检查-普通图谱法 | G30: 次/双
A31: 28 | B31: D | C31: 310300020-2 | D31: 色觉检查-FM-100Hue测试盒法 | G31: 次/只
A32: 29 | B32: D | C32: 310300020-3 | D32: 色觉检查-色觉仪法 | G32: 次/只
A33: 30 | B33: D | C33: 310300021 | D33: 对比敏感度检查 | G33: 次/只
A34: 31 | B34: D | C34: 310300022 | D34: 暗适应测定 | E34: 含图形及报告。 | G34: 次/只
A35: 32 | B35: D | C35: 310300023 | D35: 明适应测定 | G35: 次/双
A36: 33 | B36: D | C36: 310300024 | D36: 正切尺检查 | G36: 次/双
A37: 34 | B37: D | C37: 310300025 | D37: 注视性质检查 | G37: 次/双
A38: 35 | B38: D | C38: 310300026 | D38: 眼象差检查
A39: 36 | B39: D | C39: 310300026-1 | D39: 眼象差检查-手工法 | G39: 次/只
A40: 37 | B40: D | C40: 310300026-2 | D40: 眼象差检查-仪器法 | G40: 次/只
A41: 38 | B41: D | C41: 310300027 | D41: 眼压检查
A42: 39 | B42: D | C42: 310300027-1 | D42: 眼压检查-Schiotz眼压计法 | G42: 次/双
A43: 40 | B43: D | C43: 310300027-2 | D43: 眼压检查-非接触眼压计法或压平眼压计法 | G43: 次/双
A44: 41 | B44: D | C44: 310300028 | D44: 眼压日曲线检查 | E44: 含5次测眼压。 | G44: 次/双
A45: 42 | B45: D | C45: 310300028-1 | D45: 眼压日曲线检查-Schiotz眼压计法 | E45: 含5次测眼压。 | G45: 次/双
A46: 43 | B46: D | C46: 310300029 | D46: 眼压描记 | G46: 次/双
A47: 44 | B47: D | C47: 310300030 | D47: 眼球突出度测量 | E47: 指米尺测量法、眼球突出计测量法。 | G47: 次/双
A48: 45 | B48: D | C48: 310300031 | D48: 青光眼视网膜神经纤维层计算机图象分析 | E48: 含计算机图相分析；不含OCT、HRT及SLO。 | G48: 次/双
A49: 46 | B49: E | C49: 310300032 | D49: 低视力助视器试验 | G49: 次/只
A50: 47 | B50: D | C50: 310300033 | D50: 上睑下垂检查 | G50: 次/只
A51: 48 | B51: D | C51: 310300034 | D51: 泪膜破裂时间测定 | G51: 次/只
A52: 49 | B52: D | C52: 310300035 | D52: 泪液分泌功能测定 | G52: 次/只
A53: 50 | B53: E | C53: 310300036 | D53: 泪道冲洗 | G53: 次/只
A54: 51 | B54: D | C54: 310300037 | D54: 青光眼诱导试验 | E54: 含饮水、暗室、妥拉苏林等。 | G54: 次/双
A55: 52 | B55: D | C55: 310300038 | D55: 角膜荧光素染色检查 | G55: 次/双
A56: 53 | B56: D | C56: 310300039 | D56: 角膜曲率测量 | G56: 次/双
A57: 54 | B57: D | C57: 310300040 | D57: 角膜地形图检查 | G57: 次/只
A58: 55 | B58: D | C58: 310300041 | D58: 角膜内皮镜检查 | G58: 次/只
A59: 56 | B59: D | C59: 310300041-1 | D59: 角膜内皮镜检查加收(录象记录) | G59: 次
A60: 57 | B60: D | C60: 310300042 | D60: 角膜厚度检查 | E60: 指裂隙灯法、超声法。 | G60: 次/只
A61: 58 | B61: D | C61: 310300043 | D61: 角膜知觉检查 | G61: 次/只
A62: 59 | B62: D | C62: 310300044 | D62: 巩膜透照检查 | E62: 含散瞳。 | G62: 次/只
A63: 60 | B63: D | C63: 310300045 | D63: 人工晶体度数测量 | G63: 次/双
A64: 61 | B64: D | C64: 310300046 | D64: 前房深度测量 | E64: 指裂隙灯法（测量周边前房及轴部前房）、前房深度测量仪法。 | G64: 次/只
A65: 62 | B65: D | C65: 310300047 | D65: 房水荧光测定 | G65: 次/只
A66: 63 | B66: D | C66: 310300048 | D66: 裂隙灯检查 | G66: 次/双
A67: 64 | B67: D | C67: 310300049 | D67: 裂隙灯下眼底检查 | E67: 指前置镜、三面镜、视网膜镜。 | G67: 次/只
A68: 65 | B68: D | C68: 310300050 | D68: 裂隙灯下房角镜检查 | G68: 次/只
A69: 66 | B69: D | C69: 310300051 | D69: 眼位照相 | G69: 次/双
A70: 67 | B70: D | C70: 310300052 | D70: 眼前段照相 | G70: 次 | H70: 含彩照3张。
A71: 68 | B71: D | C71: 310300053 | D71: 眼底照相 | E71: 指眼底后极部照相。 | G71: 次/只
A72: 69 | B72: D | C72: 310300053-1 | D72: 眼底照相加收(超过一个方位) | G72: 每方位
A73: 70 | B73: D | C73: 310300054 | D73: 眼底血管造影
A74: 71 | B74: D | C74: 310300054-1 | D74: 眼底荧光血管造影(FFA) | E74: 含图文报告。 | F74: 造影剂 | G74: 次/只
A75: 72 | B75: D | C75: 310300054-2 | D75: 眼底靛青绿血管造影(ICGA) | E75: 含图文报告。 | F75: 造影剂 | G75: 次/只
A76: 73 | B76: D | C76: 310300055 | D76: 裂隙灯下眼底视神经立体照相 | G76: 次/只
A77: 74 | B77: D | C77: 310300056 | D77: 眼底检查 | E77: 不含散瞳。
A78: 75 | B78: D | C78: 310300056-1 | D78: 眼底检查-直接眼底镜法 | E78: 不含散瞳。 | G78: 次/只
A79: 76 | B79: D | C79: 310300056-2 | D79: 眼底检查-间接眼底镜法 | E79: 不含散瞳。 | G79: 次/只
A80: 77 | B80: D | C80: 310300057 | D80: 扫描激光眼底检查(SLO) | G80: 次/只
A81: 78 | B81: D | C81: 310300058 | D81: 视网膜裂孔定位检查 | E81: 含直接检眼镜观察+测算、双目间接检眼镜观察+巩膜加压法。 | G81: 次/只
A82: 79 | B82: D | C82: 310300059 | D82: 海德堡视网膜厚度检查(HRT) | G82: 次/只
A83: 80 | B83: D | C83: 310300060 | D83: 眼血流图 | G83: 次/只
A84: 81 | B84: D | C84: 310300061 | D84: 视网膜动脉压测定 | G84: 次
A85: 82 | B85: D | C85: 310300062 | D85: 临界融合频率检查 | G85: 次
A86: 83 | B86: D | C86: 310300063 | D86: 超声生物显微镜检查(UBM) | G86: 次/只
A87: 84 | B87: D | C87: 310300064 | D87: 光学相干断层成相(OCT) | E87: 含测眼球后极组织厚度及断面相。 | G87: 次/只
A88: 85 | B88: D | C88: 310300064-1 | D88: 光学相干断层扫描眼内血流成像 | E88: 视网膜、脉络膜等眼内光学相干断层扫描血流成像 | G88: 次/只
A89: 86 | B89: D | C89: 310300065 | D89: 视网膜电流图(ERG) | E89: 指图形视网膜电图（P-ERG）或多焦视网膜电图（m-ERG）。 | F89: 电极 | G89: 次/只
A90: 87 | B90: D | C90: 310300066 | D90: 视网膜地形图 | G90: 次/只
A91: 88 | B91: D | C91: 310300067 | D91: 眼电图(EOG) | E91: 含运动或感觉。 | G91: 次/只
A92: 89 | B92: D | C92: 310300068 | D92: 视诱发电位(VEP) | E92: 含单导、图形。 | G92: 次/只
A93: 90 | B93: D | C93: 310300069 | D93: 眼外肌功能检查 | E93: 含眼球运动、歪头试验、集合与散开。 | G93: 次/双
A94: 91 | B94: D | C94: 310300070 | D94: 眼肌力检查 | G94: 次
A95: 92 | B95: D | C95: 310300071 | D95: 结膜印痕细胞检查 | G95: 次
A96: 93 | B96: D | C96: 310300072 | D96: 马氏(Maddox)杆试验 | G96: 次/双
A97: 94 | B97: G | C97: 310300073 | D97: 球内异物定位 | E97: 含眼科操作部分。 | G97: 次
A98: 95 | B98: D | C98: 310300074 | D98: 磁吸试验 | G98: 次
A99: 96 | B99: D | C99: 310300075 | D99: 眼活体组织检查 | G99: 次
A100: 97 | B100: D | C100: 310300075-1 | D100: 眼活体组织检查加收(超过一个标本) | G100: 每个标本
...

Sheet 颌面外科医疗服务价格项目废止表
A1: 颌面外科医疗服务价格项目废止表
A2: 序号 | B2: 财务分类 | C2: 编码 | D2: 项目名称 | E2: 项目内涵 | F2: 除外内容 | G2: 计价单位 | H2: 说明
A3: 1 | B3: E | C3: 310515001 | D3: 颞下颌关节复位 | E3: 指限制下颌运动的手法复位。 | G3: 次
A4: 2 | B4: G | C4: 330605001 | D4: 口腔颌面部小肿物切除术 | E4: 指口腔、颌面部良性小肿物。 | G4: 次
A5: 3 | B5: G | C5: 330605003 | D5: 颌下腺移植术 | E5: 含带血管及导管的颌下腺解剖,受区颞肌切取及颞浅动静脉解剖及导管口易位。 | G5: 次
A6: 4 | B6: G | C6: 330605004 | D6: 涎腺瘘切除修复术 | E6: 含涎腺瘘切除及瘘修补,腮腺导管改道、成形、再造术。 | G6: 次
A7: 5 | B7: G | C7: 330605005 | D7: 下颌骨部分切除术 | E7: 含下颌骨方块及区段切除；不含颌骨缺损修复。 | F7: 特殊材料 | G7: 次
A8: 6 | B8: G | C8: 330605006 | D8: 下颌骨半侧切除术 | E8: 不含颌骨缺损修复。 | F8: 斜面导板、特殊材料 | G8: 次
A9: 7 | B9: G | C9: 330605007 | D9: 下颌骨扩大切除术 | E9: 含大部分下颌骨或全下颌骨及邻近软组织切除；不含颌骨缺损修复。 | F9: 斜面导板、特殊材料 | G9: 次
A10: 8 | B10: G | C10: 330605009 | D10: 上颌骨部分切除术 | E10: 含牙槽突水平以内上颌骨及其邻近软组织区域性切除。 | F10: 腭护板、特殊材料 | G10: 次
A11: 9 | B11: G | C11: 330605010 | D11: 上颌骨次全切除术 | E11: 含牙槽突以上至鼻棘底以下上颌骨及其邻近软组织切除与植皮；不含取皮术。 | F11: 腭护板、特殊材料 | G11: 次
A12: 10 | B12: G | C12: 330605011 | D12: 上颌骨全切术 | E12: 含整个上颌骨及邻近软组织切除与植皮；不含取皮术。 | F12: 腭护板、特殊材料 | G12: 次
A13: 11 | B13: G | C13: 330605012 | D13: 上颌骨扩大切除术 | E13: 整个上颌骨及其周围邻近受侵骨组织及软组织切除与植皮；不含取皮术。 | F13: 腭护板、特殊材料 | G13: 次
A14: 12 | B14: G | C14: 330605015 | D14: 舌恶性肿物切除术 | E14: 含舌整复（舌部分、半舌、全舌切除术）；不含舌再造术。 | G14: 次
A15: 13 | B15: G | C15: 330605017 | D15: 颊部恶性肿物局部扩大切除术 | E15: 含肿物切除及邻位瓣修复；不含颊部大面积缺损游离皮瓣及带蒂皮瓣修复。 | G15: 次
A16: 14 | B16: G | C16: 330605018 | D16: 口底皮样囊肿摘除术 | G16: 次
A17: 15 | B17: G | C17: 330605019 | D17: 口底恶性肿物局部扩大切除术 | E17: 含肿物切除及邻位瓣修复；不含口底部大面积缺损游离皮瓣及带蒂皮瓣修复。 | G17: 次
A18: 16 | B18: G | C18: 330605021 | D18: 口腔颌面颈部异物取出术 | E18: 指枪弹、碎屑、玻璃等异物取出。 | F18: 特殊材料 | G18: 次
A19: 17 | B19: G | C19: 330605023 | D19: 腭部肿物局部扩大切除术 | E19: 不含邻位瓣修复。 | G19: 次
A20: 18 | B20: G | C20: 330605024 | D20: 髁状突肿物切除术 | E20: 含肿物切除及髁突修整；不含人造关节植入。 | F20: 特殊材料 | G20: 次
A21: 19 | B21: G | C21: 330605025 | D21: 颞部肿物切除术 | E21: 含肿物切除及邻位瓣修复；不含颞部大面积缺损游离皮瓣及带蒂皮瓣修复。 | G21: 次
A22: 20 | B22: G | C22: 330605026 | D22: 颌骨骨纤维异常增殖症切除成形术 | E22: 指适用于颧骨、颧弓手术；含异常骨组织切除及骨及邻近软组织成形术。 | G22: 次
A23: 21 | B23: G | C23: 330605027 | D23: 腮腺浅叶肿物切除术 | E23: 含腮腺区肿物切除，腮腺浅叶切除及面神经解剖术；不含面神经修复术。 | G23: 次
A24: 22 | B24: G | C24: 330605028 | D24: 腮腺全切除术 | E24: 含腮腺切除及面神经解剖术；不含面神经修复术。 | G24: 次
A25: 23 | B25: G | C25: 330605028-1 | D25: 腮腺深叶肿物切除术 | E25: 含面神经解剖术。 | G25: 次
A26: 24 | B26: G | C26: 330605029 | D26: 腮腺恶性肿物扩大切除术 | E26: 含腮腺深叶肿物切除，腮腺切除及面神经解剖术；不含面神经修复术。 | G26: 次
A27: 25 | B27: G | C27: 330605031 | D27: 鳃裂囊肿切除术 | G27: 次
A28: 26 | B28: G | C28: 330605031-1 | D28: 鳃裂瘘切除术 | G28: 次
A29: 27 | B29: G | C29: 330605033 | D29: 颌面颈部深部肿物探查术 | E29: 含活检。 | F29: 特殊材料 | G29: 次
A30: 28 | B30: G | C30: 330605034 | D30: 舌下腺切除术 | G30: 次
A31: 29 | B31: G | C31: 330605035 | D31: 舌下腺囊肿袋形术 | F31: 填塞材料 | G31: 次
A32: 30 | B32: G | C32: 330605036 | D32: 颌下腺切除术 | G32: 次
A33: 31 | B33: G | C33: 330605037S | D33: 侵及颅底的颌面部肿瘤颅外扩大根治术 | E33: 不含颅底大面积缺损游离皮瓣及带蒂皮瓣修复。 | G33: 次
A34: 32 | B34: G | C34: 330606002 | D34: 巨舌畸形矫正术 | G34: 次
A35: 33 | B35: G | C35: 330606003 | D35: 舌再造术 | G35: 次
A36: 34 | B36: G | C36: 330606009 | D36: 唇畸形矫正术 | E36: 指厚唇、重唇、薄唇、唇瘢痕、唇弓不齐等；不含唇外翻矫正术。 | F36: 特殊植入材料 | G36: 次
A37: 35 | B37: G | C37: 330606010 | D37: 唇缺损修复术 | E37: 指部分或全唇缺损；不含岛状组织瓣切取移转术。 | G37: 次
A38: 36 | B38: G | C38: 330606011 | D38: 单侧不完全唇裂修复术 | E38: 指唇裂修复、初期鼻畸形矫治、唇功能性修复、唇正中裂修复。 | G38: 次
A39: 37 | B39: G | C39: 330606012 | D39: 单侧完全唇裂修复术 | E39: 指唇裂修复、初期鼻畸形矫治、唇功能性修复、唇正中裂修复；不含犁骨瓣修复术。 | G39: 次
A40: 38 | B40: G | C40: 330606013 | D40: 犁骨瓣修复术 | E40: 含犁骨瓣成形及硬腭前部裂隙关闭。 | G40: 次
A41: 39 | B41: G | C41: 330606014 | D41: Ⅰ°腭裂兰氏修复术 | E41: 指悬雍垂裂、软腭裂、隐裂修复术。 | G41: 次
A42: 40 | B42: G | C42: 330606015 | D42: Ⅱ°腭裂兰氏修复术 | E42: 指硬、软腭裂修复术。 | G42: 次
A43: 41 | B43: G | C43: 330606016 | D43: 单侧Ⅲ°腭裂兰氏修复术 | E43: 指单侧完全性腭裂修复术、硬腭鼻腔面犁骨瓣修复术。 | G43: 次
A44: 42 | B44: G | C44: 330606017 | D44: 单侧反向双“Z”腭裂修复术 | E44: 含腭裂兰氏修复、软腭延长术。 | G44: 次
A45: 43 | B45: G | C45: 330606018 | D45: 单侧单瓣二瓣后退腭裂修复术 | E45: 含腭裂兰氏修复、硬腭前部瘘修复术、软腭延长术。 | G45: 次
A46: 44 | B46: G | C46: 330606019 | D46: 单侧腭咽环扎腭裂修复术 | E46: 含腭裂兰氏修复、腭咽腔缩窄术；不含组织瓣切取移转术。 | G46: 次
A47: 45 | B47: G | C47: 330606020 | D47: 单侧组织瓣转移腭裂修复术 | E47: 含腭粘膜瓣后推、颊肌粘膜瓣转移术。 | G47: 次
A48: 46 | B48: G | C48: 330606024 | D48: 牙槽突裂植骨成形术 | E48: 指麻醉下牙槽突裂隙切开，翻瓣，缝合鼻腔侧黏膜，植骨床准备，髂部小切口切开至骨面，取骨器取松质骨，骨移植、裂隙关闭。不含取骨术。 | F48: 特殊植入材料 | G48: 次
A49: 47 | B49: G | C49: 330606027 | D49: 面横裂修复术 | E49: 含局部或邻位组织瓣制备及面部裂隙关闭。 | G49: 次
A50: 48 | B50: G | C50: 330606027-1 | D50: 面斜裂修复术 | E50: 含局部或邻位组织瓣制备及面部裂隙关闭。 | G50: 次
A51: 49 | B51: G | C51: 330606039 | D51: 腭瘘修补术 | E51: 含邻位粘膜瓣制备及腭瘘修复。 | F51: 人工材料 | G51: 次
A52: 50 | B52: G | C52: 330606042 | D52: 颌间挛缩松解术 | E52: 含口内外软组织与骨组织粘连松解、咀嚼肌切断术、植皮术等；不含皮瓣制备。 | G52: 次
A53: 51 | B53: G | C53: 330607001 | D53: 上颌雷弗特I型截骨术(Le Fort) | E53: 指骨内坚固内固定术、植骨术；不含骨切取。 | F53: 特殊材料 | G53: 单颌
A54: 52 | B54: G | C54: 330607001-1 | D54: 上颌雷弗特I型(LeFort)分块截骨术 | E54: 指骨内坚固内固定术、植骨术；不含骨切取。 | F54: 特殊材料 | G54: 单颌
A55: 53 | B55: G | C55: 330607002 | D55: 上颌雷弗特Ⅱ型截骨术(Le Fort) | E55: 含骨截开、骨内坚固内固定术、植骨术；不含骨切取。 | F55: 特殊材料 | G55: 单颌
A56: 54 | B56: G | C56: 330607003 | D56: 上颌雷弗特Ⅲ型截骨术(Le Fort) | E56: 含骨截开、骨内坚固内固定术、植骨术；不含骨切取。 | F56: 特殊材料 | G56: 单颌
A57: 55 | B57: G | C57: 330607004 | D57: 上颌牙骨段截骨术 | E57: 含上颌前部或后部截骨术、骨内坚固内固定术、植骨术；不含骨切取。 | F57: 特殊材料 | G57: 单颌
A58: 56 | B58: G | C58: 330607006 | D58: 下颌体部截骨术 | E58: 含下颌体部修整术、去皮质术骨内坚固内固定术、植骨术；不含骨切取。 | F58: 特殊材料 | G58: 次
A59: 57 | B59: G | C59: 330607005F | D59: 下颌升支截骨术 | E59: 含下颌升支矢状劈开截骨术、口内或口外入路下颌升支垂直截骨术、下颌升支倒L形截骨术、C形截骨术、骨内坚固内固定术；含骨切取。 | G59: 单颌
A60: 58 | B60: G | C60: 330607007 | D60: 下颌根尖下截骨术 | E60: 含下颌后部根尖下截骨术、骨内坚固内固定术、植骨术；不含骨切取。 | F60: 特殊材料 | G60: 次
A61: 59 | B61: G | C61: 330607008 | D61: 下颌下缘去骨成形术 | G61: 次
A62: 60 | B62: G | C62: 330607009 | D62: 下颌骨去骨皮质术 | G62: 次
A63: 61 | B63: G | C63: 330607010 | D63: 下颌角嚼肌肥大畸形矫正术 | E63: 含：1．下颌角的三角形去骨术或改良下颌升支矢状劈开去骨术，2．嚼肌部分切除术。 | G63: 单侧
A64: 62 | B64: G | C64: 330607011 | D64: 截骨颏成形术 | E64: 含各种不同改良的颏部截骨术、骨内坚固内固定术、植骨术；不含骨切取。 | F64: 特殊材料 | G64: 次
A65: 63 | B65: G | C65: 330607013 | D65: 颌骨延长骨生成术 | E65: 含上下颌骨各部分截骨、骨延长器置入术。 | F65: 骨延长器及其他特殊材料 | G65: 每部位
A66: 64 | B66: G | C66: 330607014 | D66: 颧骨颧弓成型术 | E66: 含矫正颧骨颧弓过宽或过窄畸形的截骨、骨内坚固内固定术、植骨术；不含骨切取。 | F66: 特殊材料 | G66: 单侧
A67: 65 | B67: G | C67: 330607015 | D67: 颞下颌关节盘手术 | E67: 指颞下颌关节盘摘除术、颞下颌关节盘复位固定术、颞肌瓣或其他生物性材料植入修复术等；不含颞肌瓣制备。 | F67: 特殊缝线、生物性材料 | G67: 单侧
A68: 66 | B68: G | C68: 330607016 | D68: 髁状突高位切除术 | E68: 含髁状突关节面磨光术。 | F68: 特殊缝线 | G68: 单侧
A69: 67 | B69: G | C69: 330607017 | D69: 颞下颌关节成形术 | E69: 指骨球截除术、喙突截除术、植骨床制备术、骨及代用品植入术；不含骨切取及颌间结扎术。 | F69: 骨代用品及特殊材料 | G69: 单侧
A70: 68 | B70: G | C70: 330608001 | D70: 口腔颌面软组织清创术(大) | E70: 指伤及两个以上解剖区的多层次复合性或气管损伤的处理；含浅表异物清除、创面清洗、组织处理、止血、缝合、口腔颌面软组织裂伤缝合；不含植皮和邻位瓣修复、牙外伤和骨折处理、神经导管吻合、器官切除。 | G70: 次
A71: 69 | B71: G | C71: 330608002 | D71: 口腔颌面软组织清创术(中) | E71: 指伤及一到两个解剖区的皮肤、粘膜和肌肉等非器官性损伤的处理；含浅表异物清除、创面清洗、组织处理、止血、缝合、口腔颌面软组织裂伤缝合；不含植皮和邻位瓣修复、牙外伤和骨折处理、神经导管吻合、器官切除。 | G71: 次
A72: 70 | B72: G | C72: 330608003 | D72: 口腔颌面软组织清创术(小) | E72: 指局限于一个解剖区的表浅损伤的处理；含浅表异物清除、创面清洗、组织处理、止血、缝合、口腔颌面软组织裂伤缝合；不含植皮和邻位瓣修复、牙外伤和骨折处理、神经导管吻合、器官切除。 | G72: 次
A73: 71 | B73: G | C73: 330608007 | D73: 髁状突陈旧性骨折整复术 | E73: 含颌间固定；含髁状突摘除或复位、内固定、升支截骨和关节成形。 | F73: 特殊器械 | G73: 单侧
A74: 72 | B74: G | C74: 330608008 | D74: 髁状突骨折切开复位内固定术 | E74: 含颌间固定。 | F74: 特殊材料 | G74: 单侧
A75: 73 | B75: G | C75: 330608009 | D75: 下颌骨骨折切开复位内固定术 | E75: 指颌间固定、坚固内固定术。 | F75: 特殊材料 | G75: 单颌
A76: 74 | B76: G | C76: 330608010 | D76: 上颌骨骨折切开复位内固定术 | E76: 含颌间固定。 | F76: 特殊材料 | G76: 单颌
A77: 75 | B77: G | C77: 330608012 | D77: 颧弓骨折复位术 | E77: 指间接开放复位。 | G77: 单侧
A78: 76 | B78: G | C78: 330608013 | D78: 颧骨上颌骨复合骨折切开复位内固定术 | E78: 含颌间固定、眶底探查和修复。 | G78: 单侧
A79: 77 | B79: G | C79: 330608013-2 | D79: 颧弓上颌骨复合骨折切开复位内固定术 | E79: 含颌间固定、眶底探查和修复。 | G79: 单侧
A80: 78 | B80: G | C80: 330608014 | D80: 眶鼻额区骨折整复术 | E80: 含内呲韧带和泪器处理。 | G80: 单侧
A81: 79 | B81: G | C81: 330608015 | D81: 颧骨陈旧性骨折截骨整复术 | E81: 含眶底探查和修复。 | G81: 单侧
A82: 80 | B82: G | C82: 330608016 | D82: 颧骨陈旧性骨折植骨矫治术 | E82: 含自体植骨；不含取骨术。 | G82: 单侧
A83: 81 | B83: G | C83: 330608019 | D83: 骨内固定植入物取出术 | G83: 单颌
A84: 82 | B84: G | C84: 330608025 | D84: 下颌骨陈旧性骨折整复术 | E84: 含再骨折复位、局部截骨复位、颌间固定、骨间固定和邻位瓣修复；不含植骨及软组织缺损修复术。 | G84: 单颌
A85: 83 | B85: G | C85: 330608027 | D85: 上颌骨陈旧性骨折整复术 | E85: 指手术复位、颌间固定骨间固定和邻位瓣修复；含再骨折复位（Lefort 分型截骨或分块截骨复位）。 | G85: 单颌
A86: 84 | B86: G | C86: 330609005 | D86: 游离骨移植颌骨重建术 | E86: 含取骨、植骨、骨坚固内固定。 | F86: 固定用钛板及钛螺钉 | G86: 次
A87: 85 | B87: G | C87: 331604013 | D87: 面瘫畸形矫正术 | E87: 不含神经切取术。 | F87: 植入材料 | G87: 每侧

Sheet 血管淋巴类医疗服务价格项目废止表
A1: 血管淋巴类医疗服务价格项目废止表
A2: 序号 | B2: 财务分类 | C2: 编码 | D2: 项目名称 | E2: 项目内涵 | F2: 除外内容 | G2: 计价单位 | H2: 说明
A3: 1 | B3: D | C3: 310800025 | D3: 淋巴造影术 | F3: 导管 | G3: 次
A4: 2 | B4: G | C4: 311400031 | D4: 血管瘤硬化剂注射治疗 | E4: 指血管畸形、淋巴管畸形、血管瘤的硬化治疗。 | G4: 每个注射点
A5: 3 | B5: D | C5: 320100001 | D5: 经皮选择性静脉造影术 | G5: 次
A6: 4 | B6: D | C6: 320100001-1 | D6: 经皮选择性腔静脉造影术 | G6: 次
A7: 5 | B7: D | C7: 320100001-2 | D7: 经皮选择性肢体静脉造影术 | G7: 次
A8: 6 | B8: D | C8: 320100001-3 | D8: 经皮超选择性静脉造影术 | G8: 次 | H8: 同一静脉系统，选择性和超选择性造影术不得同时收取。
A9: 7 | B9: G | C9: 320100002 | D9: 经皮静脉内激光成形术 | G9: 次
A10: 8 | B10: G | C10: 320200001-1 | D10: 经股动脉置管腹主动脉瘤修复术 | G10: 次
A11: 9 | B11: G | C11: 320200001-2 | D11: 经股动脉置管假性动脉瘤修复术 | G11: 次
A12: 10 | B12: G | C12: 320200001-3 | D12: 经股动脉置管胸主动脉腔内修复术 | G12: 次
A13: 11 | B13: G | C13: 320100003 | D13: 经皮静脉内滤网置入术 | G13: 次
A14: 12 | B14: G | C14: 320100003-1 | D14: 经皮静脉内滤网取出术 | G14: 次
A15: 13 | B15: G | C15: 320100003-2 | D15: 经皮动脉内滤网置入术 | G15: 次
A16: 14 | B16: G | C16: 320100003-3 | D16: 经皮动脉内滤网取出术 | G16: 次
A17: 15 | B17: G | C17: 320100004 | D17: 经皮静脉球囊扩张术 | G17: 次
A18: 16 | B18: G | C18: 320100006 | D18: 经皮静脉内支架置入术 | E18: 含球囊扩张、支架置入。 | G18: 次
A19: 17 | B19: G | C19: 320100007 | D19: 经皮静脉内旋切术 | G19: 次
A20: 18 | B20: G | C20: 320100008 | D20: 经皮静脉内溶栓术 | G20: 次
A21: 19 | B21: G | C21: 320100008-1 | D21: 经皮动脉内溶栓术 | G21: 次
A22: 20 | B22: G | C22: 320100009 | D22: 经皮静脉内超声血栓消融术 | G22: 次
A23: 21 | B23: G | C23: 320100010 | D23: 经皮选择性静脉置管术 | G23: 次
A24: 22 | B24: G | C24: 320100010-1 | D24: 经皮选择性静脉拔管术 | G24: 次
A25: 23 | B25: G | C25: 320100011 | D25: 经颈静脉长期透析管植入术 | G25: 次
A26: 24 | B26: G | C26: 320100012 | D26: 经皮静脉内血管异物取出术 | G26: 次
A27: 25 | B27: G | C27: 320100012-1 | D27: 经皮静脉内血栓抽吸术 | G27: 次
A28: 26 | B28: G | C28: 320100013S | D28: 经皮静脉栓塞术 | E28: 穿刺进入目标静脉，超选进入静脉靶区进行栓塞。 | G28: 次
A29: 27 | B29: G | C29: 320100014S | D29: 经皮穿刺选择性肾上腺静脉取血术 | E29: 股静脉或颈静脉穿刺插管，选择肾上腺静脉，注射对比剂并摄片取血，拔管压迫止血。 | G29: 次
A30: 28 | B30: G | C30: 320100016N | D30: 经皮穿刺胸导管栓塞术 | E30: 经腹或胸穿刺胸导管，注入对比剂，显示胸导管，对病变部位进行栓塞。 | G30: 次
A31: 29 | B31: D | C31: 320100017N | D31: 经淋巴结淋巴管栓塞术 | E31: 经皮淋巴结穿刺，注入对比剂，显示淋巴管，对病变部位进行栓塞。 | G31: 次
A32: 30 | B32: G | C32: 320200001 | D32: 经股动脉置管腹主动脉带簿网支架置入术 | G32: 次
A33: 31 | B33: D | C33: 320200002 | D33: 经皮选择性动脉造影术 | G33: 次
A34: 32 | B34: D | C34: 320200003 | D34: 经皮超选择性动脉造影术 | E34: 不含脑血管及冠状动脉。 | G34: 次
A35: 33 | B35: G | C35: 320200004 | D35: 经皮选择性动脉置管术 | E35: 含各种药物治疗、栓塞、热灌注、鞘管拔出。 | F35: 栓塞剂、泵 | G35: 次
A36: 34 | B36: G | C36: 320200005 | D36: 经皮动脉斑块旋切术 | E36: 不含脑血管及冠状动脉。 | G36: 次
A37: 35 | B37: G | C37: 320200006 | D37: 经皮动脉闭塞激光再通术 | E37: 不含脑血管及冠状动脉。 | G37: 次
A38: 36 | B38: G | C38: 320200006-1/1 | D38: 经皮动脉闭塞激光再通术(使用激光纤维) | G38: 次
A39: 37 | B39: G | C39: 320200006-2 | D39: 经皮静脉闭塞激光再通术 | G39: 次
A40: 38 | B40: G | C40: 320200006-2/1 | D40: 经皮静脉闭塞激光再通术(使用激光纤维) | G40: 次
A41: 39 | B41: G | C41: 320200007 | D41: 经皮动脉栓塞术 | G41: 次
A42: 40 | B42: G | C42: 320200007-1 | D42: 经皮动脉瘤栓塞术 | G42: 次
A43: 41 | B43: G | C43: 320200007-2 | D43: 经皮肿瘤栓塞术 | G43: 次
A44: 42 | B44: G | C44: 320200008 | D44: 经皮动脉内超声血栓消融术 | G44: 次
A45: 43 | B45: G | C45: 320200009 | D45: 经皮动脉内球囊扩张术 | E45: 不含脑血管及冠状动脉。 | G45: 次
A46: 44 | B46: G | C46: 320200010 | D46: 经皮动脉支架置入术 | G46: 次
A47: 45 | B47: G | C47: 320200010-1 | D47: 经皮肢体动脉支架置入术 | G47: 次
A48: 46 | B48: G | C48: 320200010-2 | D48: 经皮颈动脉支架置入术 | G48: 次
A49: 47 | B49: G | C49: 320200010-3 | D49: 经皮肾动脉支架置入术 | G49: 次
A50: 48 | B50: G | C50: 320200011 | D50: 经皮动脉激光成形+球囊扩张术 | G50: 次
A51: 49 | B51: G | C51: 320200012 | D51: 经皮肢体动脉旋切＋球囊扩张术 | G51: 次
A52: 50 | B52: G | C52: 320200012-1 | D52: 经皮肢体动脉旋磨＋球囊扩张术 | G52: 次
A53: 51 | B53: G | C53: 320200013 | D53: 经皮血管瘤腔内药物灌注术 | G53: 次
A54: 52 | B54: G | C54: 320200014S | D54: 经皮肺动静脉瘘栓塞术 | G54: 次
A55: 53 | B55: G | C55: 320200015S | D55: 经皮穿刺动脉内异物取出术 | E55: 穿刺置管，造影摄片，异物抓取，拔管，穿刺点压迫包扎。 | G55: 次
A56: 54 | B56: G | C56: 320200016S | D56: 经皮穿刺动脉内取栓术 | E56: 不含冠状动脉、颅内动脉取栓。 | G56: 次
A57: 55 | B57: D | C57: 320200018N | D57: 肺动脉光学相干断层扫描(OCT)检查 | E57: 穿刺股静脉，放置鞘管，沿导丝将导管送至肺动脉，根据肺动脉造影结果决定需要检查的病变，沿导丝将OCT导管送至病变远端1-2厘米处，经灌注腔注入造影剂的同时打开扫描仪回撤导管，观察病变并记录分析影像。 | G57: 次
A58: 56 | B58: D | C58: 320200019N | D58: 肺动脉血管内超声检查术(IVUS) | E58: 穿刺股静脉，放置鞘管，沿导丝将导管送至肺动脉，根据肺动脉造影结果决定需要检查的病变，沿导丝将IVUS超声导管送至病变远端，打开扫描仪回撤导管，观察病变并记录分析影像。含术前的靶血管造影。 | G58: 次
A59: 57 | B59: G | C59: 320200020N | D59: 腹主动脉瘤腔内修复分支动脉重建术 | G59: 次
A60: 58 | B60: G | C60: 320300001 | D60: 经皮肝穿刺肝静脉扩张术 | G60: 次
A61: 59 | B61: G | C61: 320300002 | D61: 肝动脉插管灌注术 | G61: 次
A62: 60 | B62: G | C62: 320300002-1 | D62: 各脏器动脉插管灌注术 | G62: 次
A63: 61 | B63: G | C63: 320300003 | D63: 经颈内静脉肝内门腔静脉分流术(TIPS) | E63: 含穿刺颈内静脉，放置血管鞘管，沿鞘管放入导丝和猪尾造影导管入下腔静脉，退出导丝，将猪尾导管与高压注射器连接，注入对比剂进行下腔静脉造影，经颈静脉插入导丝和导管经过右心房和下腔静脉分别选入各支肝静脉，退出导丝，造影证实，更换交换导丝，进入特制带鞘穿刺针，边穿刺边造影直至进入门静脉，退出穿刺针，沿导丝插入球囊导管扩张后置入支架，造影管造影证实后退出导丝导管，穿刺处弹力绷带加压包扎。不含静脉造影，X线监控及摄片。 | G63: 次
A64: 62 | B64: G | C64: 330000000-8 | D64: 术中使用腹腔镜加收 | G64: 次
A65: 63 | B65: G | C65: 330203014-1 | D65: 颈静脉结扎术 | F65: 结扎夹 | G65: 次
A66: 64 | B66: G | C66: 330605020 | D66: 口腔颌面部巨大血管瘤淋巴管瘤切除术 | G66: 次
A67: 65 | B67: G | C67: 330802049S | D67: 升主动脉-外周血管旁路术 | E67: 游离升主动脉及颈内（总）动脉，锁骨下动脉，全身肝素化，取人工血管两端分别于升主动脉和颈动脉，锁骨下动脉吻合，留置引流管，止血，关胸。 | G67: 次
A68: 66 | B68: G | C68: 330802055N | D68: 肺动脉内膜剥脱术 | E68: 指对慢性血栓栓塞性肺动脉高压患者行肺动脉内膜剥脱。 | G68: 次
A69: 67 | B69: G | C69: 330802056N | D69: 冠状动脉瘤切除术 | E69: 切除冠状动脉瘤、清除瘤体内血栓、重建管壁。 | G69: 次
A70: 68 | B70: G | C70: 330802058N | D70: 椎动脉-颈动脉旁路移植术 | E70: 切断椎动脉后，行椎动脉与颈动脉（或人工血管）的端侧吻合。 | G70: 次
A71: 69 | B71: G | C71: 330802059N | D71: 颈总动脉重建术 | E71: 指对颈总动脉病变严重的主动脉弓部疾病患者，在颈部切口，以人造血管行颈总动脉置换或颈总动脉成形。 | G71: 次
A72: 70 | B72: G | C72: 330802060N | D72: 升主动脉-股动脉旁路转流术 | E72: 指用人造血管连接升主动脉与股动脉。 | G72: 次
A73: 71 | B73: G | C73: 330802061N | D73: 腹主动脉置换术 | E73: 指用人造血管行腹主动脉置换。 | G73: 次
A74: 72 | B74: G | C74: 330804001 | D74: 无名动脉瘤切除术 | G74: 次
A75: 73 | B75: G | C75: 330804001-1 | D75: 锁骨下动脉瘤切除术 | G75: 次
A76: 74 | B76: G | C76: 330804001-2 | D76: 颈总动脉起始部动脉瘤切除术 | G76: 次
A77: 75 | B77: G | C77: 330804002 | D77: 颈静脉瘤成形术 | E77: 含部分切除、缩窄缝合、各种材料包裹、结扎切除。 | F77: 用于包裹的各种材料 | G77: 次
A78: 76 | B78: G | C78: 330804003 | D78: 颈静脉移植术 | G78: 次
A79: 77 | B79: G | C79: 330804004 | D79: 颈动脉海绵窦栓塞＋结扎术 | G79: 次
A80: 78 | B80: G | C80: 330804005 | D80: 颈动脉瘤切除＋血管移植术 | E80: 含自体大隐静脉或其它血管的取用。 | G80: 次
A81: 79 | B81: G | C81: 330804005-1 | D81: 颈动脉假性动脉瘤切除+血管移植术 | E81: 含自体大隐静脉或其它血管的取用。 | G81: 次
A82: 80 | B82: G | C82: 330804005-2 | D82: 外伤性动-静脉瘘切除术+血管移植术 | E82: 含自体大隐静脉或其它血管的取用。 | G82: 次
A83: 81 | B83: G | C83: 330804005-3 | D83: 颈动脉过度迂曲切除+血管移植术 | E83: 含自体大隐静脉或其它血管的取用。 | G83: 次
A84: 82 | B84: G | C84: 330804006 | D84: 颈动脉体瘤切除＋血管移植术 | G84: 次
A85: 83 | B85: G | C85: 330804007 | D85: 颈动脉-腋动脉血管移植术 | G85: 次
A86: 84 | B86: G | C86: 330804007-1 | D86: 锁骨下动脉-颈动脉血管移植术 | G86: 次
A87: 85 | B87: G | C87: 330804008 | D87: 升主动脉-双腋Y型人工血管架桥-颈动脉大隐静脉架桥术 | E87: 指全部采用人工血管或与颈动脉直接吻合及升主动脉至双腋动脉用Y型人工血管架桥，再从人工血管向颈动脉用大隐静脉架桥；含大隐静脉取用；不含体外循环。 | F87: 人工血管 | G87: 次
A88: 86 | B88: G | C88: 330804013 | D88: 肠系膜上动脉取栓＋移植术 | E88: 含大隐静脉取用。 | F88: 取栓管 | G88: 次
A89: 87 | B89: G | C89: 330804014 | D89: 胸腹主动脉损伤修复术 | G89: 次
A90: 88 | B90: G | C90: 330804014-1 | D90: 腔静脉损伤修复术 | G90: 次
A91: 89 | B91: G | C91: 330804015 | D91: 腹主动脉腔静脉瘘成形术 | G91: 次
A92: 90 | B92: G | C92: 330804016 | D92: 腹主动脉-双股动脉Y型人工血管转流术 | E92: 不含腰交感神经节切除。 | F92: 人工血管 | G92: 次
A93: 91 | B93: G | C93: 330804016-1 | D93: 腹主动脉-双股动脉Y型人工血管转流术加收(远端架桥每增一根血管) | G93: 每根血管
A94: 92 | B94: G | C94: 330804016-2 | D94: 双髂动脉成形术 | G94: 次
A95: 93 | B95: G | C95: 330804016-3 | D95: 股深动脉成形术 | F95: 人工血管 | G95: 次
A96: 94 | B96: G | C96: 330804017 | D96: 腹主动脉-股动脉人工血管转流术 | E96: 指经腹或经腹膜外。 | F96: 人工血管 | G96: 次
A97: 95 | B97: G | C97: 330804017-1 | D97: 腹主动脉-股动脉人工血管转流术加收(远端架桥每增一根血管) | G97: 每根血管
A98: 96 | B98: G | C98: 330804018 | D98: 腹主动脉消化道瘘修复术 | G98: 次
A99: 97 | B99: G | C99: 330804019 | D99: 布加氏综合症根治术 | E99: 含部分肝切除、肝静脉疏通术，在体外循环下进行；不含体外循环。 | G99: 次
A100: 98 | B100: G | C100: 330804020 | D100: 布加氏综合症病变段切除术 | E100: 指需用体外循环下的膈膜切除、成形或吻合术；不含体外循环。 | G100: 次
...

Sheet 骨骼肌肉类医疗服务价格项目废止表
B1: 骨骼肌肉类医疗服务价格项目废止表
A2: 序号 | B2: 财务分类 | C2: 编码 | D2: 项目名称 | E2: 项目内涵 | F2: 除外内容 | G2: 计价单位 | H2: 说明
A3: 1 | B3: D | C3: 230200055 | D3: 骨密度测定 | G3: 人次
A4: 2 | B4: D | C4: 230200055-1 | D4: 单光子骨密度测定 | G4: 人次
A5: 3 | B5: D | C5: 230200055-2 | D5: 双光子或X线能量骨密度测定 | G5: 人次
A6: 4 | B6: G | C6: 310000000-10 | D6: 诊疗中使用关节镜加收 | G6: 次
A7: 5 | B7: G | C7: 310000000-13 | D7: 诊疗中使用脊柱内镜(含微创通道)辅助加收 | G7: 次
A8: 6 | B8: G | C8: 330000000-11 | D8: 术中使用关节镜加收 | G8: 次
A9: 7 | B9: G | C9: 330000000-15 | D9: 术中使用脊柱内镜(含微创通道)辅助加收 | G9: 次
A10: 8 | B10: G | C10: 330703007 | D10: 肋软骨取骨术 | G10: 次
A11: 9 | B11: G | C11: 330703010 | D11: 胸骨牵引术 | G11: 次
A12: 10 | B12: G | C12: 330804063-1 | D12: 指动脉吻合术 | G12: 单侧
A13: 11 | B13: G | C13: 330804063-2 | D13: 趾动脉吻合术 | G13: 单侧
C14: 3315 | D14: 15.肌肉骨骼系统手术 | E14: 不含C型臂和一般X光透视。 | F14: 内、外固定的材料、骨水泥及配套设备 | H14: 取骨另计。
C15: 331501 | D15: 15. 1脊柱骨关节手术 | F15: 人工椎体
A16: 12 | B16: G | C16: 331501001 | D16: 经口咽部环枢椎肿瘤切除术 | E16: 不含植骨。 | G16: 次
A17: 13 | B17: G | C17: 331501002 | D17: 颈1-7椎体肿瘤切除术(前入路) | E17: 不含植骨。 | G17: 次
A18: 14 | B18: G | C18: 331501003 | D18: 颈1-7椎板肿瘤切除术(后入路) | E18: 不含植骨。 | G18: 次
A19: 15 | B19: G | C19: 331501004 | D19: 胸椎肿瘤切除术 | E19: 不含植骨。 | G19: 次
A20: 16 | B20: G | C20: 331501005 | D20: 胸椎椎板及附件肿瘤切除术 | E20: 不含植骨。 | G20: 次
A21: 17 | B21: G | C21: 331501006 | D21: 前路腰椎肿瘤切除术 | E21: 不含植骨。 | G21: 次
A22: 18 | B22: G | C22: 331501007 | D22: 后路腰椎椎板及附件肿瘤切除术 | E22: 不含植骨。 | G22: 次
A23: 19 | B23: G | C23: 331501008 | D23: 经腹膜后胸膜外胸腰段椎体肿瘤切 除术(胸11-腰2) | E23: 不含植骨。 | G23: 次
A24: 20 | B24: G | C24: 331501009 | D24: 经腹膜后腰2-4椎体肿瘤切除术 | E24: 不含植骨。 | G24: 次
A25: 21 | B25: G | C25: 331501010 | D25: 经腹腰5骶1椎体肿瘤切除术 | E25: 不含植骨。 | G25: 次
A26: 22 | B26: G | C26: 331501011 | D26: 骶骨肿瘤骶骨部分切除术 | G26: 次
A27: 23 | B27: G | C27: 331501012 | D27: 骶骨肿瘤骶骨次全切除术 | G27: 次
A28: 24 | B28: G | C28: 331501013 | D28: 骶骨肿瘤骶骨全切除及骶骨重建术 | G28: 次
A29: 25 | B29: G | C29: 331501014 | D29: 腰骶髂连接部肿瘤切除术 | G29: 次
A30: 26 | B30: G | C30: 331501014-1 | D30: 骶尾部畸胎瘤切除术 | G30: 次
A31: 27 | B31: G | C31: 331501015 | D31: 半骨盆切除术 | G31: 次
A32: 28 | B32: G | C32: 331501016 | D32: 半骨盆切除人工半骨盆置换术 | E32: 不含回输血和脉冲器的使用。 | F32: 人工半骨盆 | G32: 次
A33: 29 | B33: G | C33: 331501017 | D33: 髂窝脓肿切开引流术 | G33: 次
A34: 30 | B34: G | C34: 331501018 | D34: 髂腰肌脓肿切开引流术 | G34: 次
A35: 31 | B35: G | C35: 331501019 | D35: 颈椎间盘切除术 | G35: 次
A36: 32 | B36: G | C36: 331501020 | D36: 颈椎间盘切除椎间植骨融合术 | G36: 每节间盘
A37: 33 | B37: G | C37: 331501021 | D37: 颈椎体次全切除植骨融合术 | G37: 每节椎骨
A38: 34 | B38: G | C38: 331501022 | D38: 颈椎钩椎关节切除术 | E38: 不含植骨。 | G38: 每节椎骨
A39: 35 | B39: G | C39: 331501023 | D39: 颈椎侧方入路枢椎齿突切除术 | G39: 次
A40: 36 | B40: G | C40: 331501024 | D40: 后入路环枢椎植骨融合术 | E40: 不含取骨。 | G40: 次
A41: 37 | B41: G | C41: 331501025 | D41: 后入路环枢减压植骨融合固定术 | E41: 含环椎后弓切除减压、枢椎板切除减压植骨固定。 | G41: 次
A42: 38 | B42: G | C42: 331501026 | D42: 后入路枢环枕融合植骨固定术 | E42: 不含枕骨大孔扩大及环椎后弓减压。 | G42: 次
A43: 39 | B43: G | C43: 331501026-1 | D43: 后入路枢环枕融合植骨固定术+枕 骨大孔扩大及环枕后弓减压 | G43: 次
A44: 40 | B44: G | C44: 331501027 | D44: 环枢椎侧块螺钉内固定术 | G44: 次
A45: 41 | B45: G | C45: 331501028 | D45: 颈椎骨折脱位手术复位植骨融合内 固定术 | G45: 每节椎骨
A46: 42 | B46: G | C46: 331501029 | D46: 胸椎融合术 | E46: 含前入路开胸、植骨。 | G46: 每节椎骨
A47: 43 | B47: G | C47: 331501029-1 | D47: 胸椎融合术(行椎体后缘减压术) | E47: 含前入路开胸、植骨。 | G47: 每节椎骨
A48: 44 | B48: G | C48: 331501030 | D48: 胸椎腰椎前路内固定术 | E48: 含脊髓神经根松解、间盘摘除、钩椎关节切除、脊髓探查 、骨折切开复位。 | G48: 次
A49: 45 | B49: G | C49: 331501031 | D49: 胸椎横突椎板植骨融合术 | E49: 不含椎板切除减压。 | G49: 次
A50: 46 | B50: G | C50: 331501032 | D50: 胸腰椎骨折切开复位内固定术 | E50: 后方入路切口。 | G50: 每节椎骨
A51: 47 | B51: G | C51: 331501032-1 | D51: 胸腰椎骨折切开复位内固定术+前 侧方入路脊髓前外侧减压术 | G51: 每节椎骨
A52: 48 | B52: G | C52: 331501033 | D52: 经胸腹联合切口胸椎间盘切除术 | G52: 每节间盘
A53: 49 | B53: G | C53: 331501034 | D53: 腰椎间盘极外侧突出摘除术 | E53: 不含一般的腰间盘突出。 | G53: 次
A54: 50 | B54: G | C54: 331501035 | D54: 经皮椎间盘吸引术 | G54: 次
A55: 51 | B55: G | C55: 331501036 | D55: 椎管扩大减压术 | E55: 含全椎板切除。 | G55: 每节椎板
A56: 52 | B56: G | C56: 331501036-1 | D56: 椎管扩大减压术+神经根管减压术 | G56: 每节椎板
A57: 53 | B57: G | C57: 331501037 | D57: 椎管扩大成形术 | G57: 每节椎板
A58: 54 | B58: G | C58: 331501038 | D58: 腰椎间盘突出摘除术 | E58: 含椎板开窗间盘切除；不含极外侧突出。 | G58: 每节间盘
A59: 55 | B59: G | C59: 331501039 | D59: 经皮激光腰椎间盘治疗术 | E59: 含激光摘除、激光修复。 | G59: 次
A60: 56 | B60: G | C60: 331501040 | D60: 后路腰椎间盘镜椎间盘髓核摘除术 (MED) | G60: 每间盘
A61: 57 | B61: G | C61: 331501041 | D61: 腰椎滑脱植骨融合术 | E61: 含前入路植骨融合。 | G61: 次
A62: 58 | B62: G | C62: 331501042 | D62: 腰椎滑脱椎弓根螺钉内固定植骨融合术 | G62: 次
A63: 59 | B63: G | C63: 331501042-1/1 | D63: 腰椎滑脱椎弓根螺钉内固定植骨融 合术+行椎板切除减压间盘摘除 | G63: 次
A64: 60 | B64: G | C64: 331501042-2 | D64: 脊柱滑脱复位内固定术 | G64: 次
A65: 61 | B65: G | C65: 331501042-2/1 | D65: 脊柱滑脱复位内固定术+行椎板切 除减压间盘摘除 | G65: 次
A66: 62 | B66: G | C66: 331501043 | D66: 腰椎横突间融合术 | G66: 次
A67: 63 | B67: G | C67: 331501044 | D67: 腰椎骶化横突切除术 | G67: 次
A68: 64 | B68: G | C68: 331501045 | D68: 骨盆骨折髂内动脉结扎术 | G68: 次
A69: 65 | B69: G | C69: 331501046 | D69: 骨盆骨折切开复位内固定术 | G69: 次
A70: 66 | B70: G | C70: 331501047 | D70: 强直性脊柱炎截骨矫正术 | E70: 含植骨融合。 | G70: 次
A71: 67 | B71: G | C71: 331501047-1/1 | D71: 强直性脊柱炎截骨矫正术加收(前方 入路松解) | G71: 次
A72: 68 | B72: G | C72: 331501047-1/2 | D72: 强直性脊柱炎截骨矫正术加收(增加 内固定) | G72: 次
A73: 69 | B73: G | C73: 331501047-2 | D73: 先天性脊柱畸形截骨矫正术 | G73: 次
A74: 70 | B74: G | C74: 331501047-2/1 | D74: 先天性脊柱畸形截骨矫正术加收(前 方入路松解) | G74: 次
A75: 71 | B75: G | C75: 331501047-2/2 | D75: 先天性脊柱畸形截骨矫正术加收(增加内固定) | G75: 次
A76: 72 | B76: G | C76: 331501047-3 | D76: 创伤性脊柱畸形截骨矫正术 | G76: 次
A77: 73 | B77: G | C77: 331501047-3/1 | D77: 创伤性脊柱畸形截骨矫正术加收(前 方入路松解) | G77: 次
A78: 74 | B78: G | C78: 331501047-3/2 | D78: 创伤性脊柱畸形截骨矫正术加收(增加内固定) | G78: 次
A79: 75 | B79: G | C79: 331501047-4 | D79: TB性脊柱畸形截骨矫正术 | G79: 次
A80: 76 | B80: G | C80: 331501047-4/1 | D80: TB性脊柱畸形截骨矫正术加收(前 方入路松解) | G80: 次
A81: 77 | B81: G | C81: 331501047-4/2 | D81: TB性脊柱畸形截骨矫正术加收(增加内固定) | G81: 次
A82: 78 | B82: G | C82: 331501048 | D82: 后路脊柱侧弯矫正术 | G82: 次
A83: 79 | B83: G | C83: 331501048-1 | D83: 后路脊柱侧弯矫正术加收(前方入路 松解术) | G83: 次
A84: 80 | B84: G | C84: 331501048-2 | D84: 后路脊柱侧弯矫正术加收(植骨融合) | G84: 次
A85: 81 | B85: G | C85: 331501049 | D85: 前路脊柱松解融合术 | E85: 指切除椎间盘并融合。 | G85: 每节段
A86: 82 | B86: G | C86: 331501049-1 | D86: 前路脊柱松解融合术加收(植骨融合) | G86: 次
A87: 83 | B87: G | C87: 331501050 | D87: 前路脊柱旋转侧弯矫正术 | G87: 次
A88: 84 | B88: G | C88: 331501050-1 | D88: 前路脊柱旋转侧弯矫正术加收(植骨 融合) | G88: 次
A89: 85 | B89: G | C89: 331501051 | D89: 前路脊柱骨骺阻滞术后路椎板凸侧 融合术 | G89: 次
A90: 86 | B90: G | C90: 331501051-1 | D90: 前路脊柱骨骺阻滞术后路椎板凸侧 融合术加收(开胸) | G90: 次
A91: 87 | B91: G | C91: 331501051-2 | D91: 前路脊柱骨骺阻滞术后路椎板凸侧 融合术加收(植骨) | G91: 次
A92: 88 | B92: G | C92: 331501052 | D92: 脊柱椎间融合器植入植骨融合术 | E92: 含脊髓神经根松解、椎板切除减压、脊髓探查、骨折切开 复位。 | G92: 每节段
A93: 89 | B93: G | C93: 331501053 | D93: 脊柱半椎体切除术 | G93: 次
A94: 90 | B94: G | C94: 331501054 | D94: 脊柱内固定物取出术 | G94: 次
A95: 91 | B95: G | C95: 331501055 | D95: 滑板椎弓根钉复位植骨内固定术 | G95: 次
A96: 92 | B96: G | C96: 331501055-1 | D96: 脊柱椎弓根钉复位植骨内固定术加收(松解术) | G96: 次
A97: 93 | B97: G | C97: 331501055-2 | D97: 滑板椎弓根钉复位植骨内固定术加 收(椎板切除减压) | G97: 次
A98: 94 | B98: G | C98: 331501056 | D98: 经皮穿刺颈腰椎间盘切除术 | E98: 含造影、超声定位。 | G98: 每节间盘
A99: 95 | B99: G | C99: 331501057 | D99: 人工椎间盘植入术 | E99: 指切除椎间盘，植入假体。 | F99: 人工椎间盘 | G99: 每节段
A100: 96 | B100: G | C100: 331501058-7 | D100: 腰椎间盘酶溶术 | G100: 每间盘
...

Sheet 物理治疗类医疗服务价格项目废止表
A1: 物理治疗类医疗服务价格项目废止表
A2: 序号 | B2: 财务分类 | C2: 编码 | D2: 项目名称 | E2: 项目内涵 | F2: 除外内容 | G2: 计价单位 | H2: 说明
A3: 1 | B3: E | C3: 240700001 | D3: 深部热疗 | E3: =VLOOKUP(D3,[2]基本目录!$D$11:$H$7000,2,FALSE) -> 指超声或电磁波等热疗。 | G3: 次
A4: 2 | B4: E | C4: 240700001-1 | D4: 深部热疗加收(内生场热疗) | G4: 次
A5: 3 | B5: E | C5: 240700002 | D5: 高强度超声聚焦刀治疗 | E5: =VLOOKUP(D5,[2]基本目录!$D$11:$H$7000,2,FALSE) -> 指使用焦域声强5000W/cm2以下高强度超声聚焦设备对实体性肿瘤的疗程损毁性消融治疗:含术中超声监控。 | G5: 次 | H5: =VLOOKUP(D5,[2]基本目录!$D$11:$H$7000,5,FALSE) -> 同一病灶按实际治疗次数计收，超过5次的，最高按5次计收。
A6: 4 | B6: E | C6: 240700002-1 | D6: 高强度聚焦超声热消融肿瘤刀治疗 | E6: =VLOOKUP(D6,[2]基本目录!$D$11:$H$7000,2,FALSE) -> 指使用焦域声强5000W/cm2及以上高强度超声聚焦设备对实体性肿瘤的一次损毁性消融治疗:含术中超声监控。 | G6: 次 | H6: =VLOOKUP(D6,[2]基本目录!$D$11:$H$7000,5,FALSE) -> 同一病灶治疗按一次计收
A7: 5 | B7: E | C7: 240700003 | D7: 体表肿瘤电化学治疗 | G7: 次
A8: 6 | B8: E | C8: 240700004S | D8: 光动力治疗
A9: 7 | B9: E | C9: 240700004S-1 | D9: 恶性肿瘤光动力治疗 | E9: 含光敏剂、激光源。 | G9: 次
A10: 8 | B10: E | C10: 240700004S-2 | D10: 良性病变光动力治疗 | E10: =VLOOKUP(D10,[2]基本目录!$D$11:$H$7000,2,FALSE) -> 含激光源。 | G10: 次 | H10: =VLOOKUP(D10,[2]基本目录!$D$11:$H$7000,5,FALSE) -> 体被肿物3个肿物以内（含3个）为一次。
A11: 9 | B11: E | C11: 240700004S-2/1 | D11: 良性病变光动力治疗加收(超过3个肿物) | G11: 每个肿物
A12: 10 | B12: G | C12: 310208004S | D12: 经皮穿刺甲状腺结节消融术 | E12: =VLOOKUP(D12,[2]基本目录!$D$11:$H$7000,2,FALSE) -> 指经皮穿刺甲状腺，使用物理方法对结节进行消融。 | G12: 次 | H12: =VLOOKUP(D12,[2]基本目录!$D$11:$H$7000,5,FALSE) -> 甲状旁腺消融参照此收费。
A13: 11 | B13: E | C13: 310300086 | D13: 光动力疗法(PDT) | E13: =VLOOKUP(D13,[2]基本目录!$D$11:$H$7000,2,FALSE) -> 含光敏剂配置、微泵注入药物、激光治疗。 | F13: =VLOOKUP(D13,[2]基本目录!$D$11:$H$7000,3,FALSE) -> 光敏剂 | G13: 次/只
A14: 12 | B14: G | C14: 310510008 | D14: 激光口内治疗 | E14: =VLOOKUP(D14,[2]基本目录!$D$11:$H$7000,2,FALSE) -> 指：1.根管处置，2.牙周处置，3.各种斑、痣、小肿物、溃疡治疗。 | G14: 每部位
A15: 13 | B15: E | C15: 310514003 | D15: 口腔粘膜病特殊治疗
A16: 14 | B16: E | C16: 310514003-1 | D16: 口腔粘膜病红外线治疗 | G16: 每部位
A17: 15 | B17: E | C17: 310514003-2 | D17: 口腔粘膜病微波治疗 | G17: 每部位
A18: 16 | B18: E | C18: 310514003-3 | D18: 口腔粘膜病冷冻治疗 | G18: 每部位
A19: 17 | B19: E | C19: 310514003-4 | D19: 口腔粘膜病频谱治疗 | G19: 每部位
A20: 18 | B20: E | C20: 310514004S | D20: 口腔黏膜病损电凝术 | G20: 次
A21: 19 | B21: E | C21: 310904008 | D21: 便秘及腹泻的生物反馈治疗 | G21: 次
A22: 20 | B22: E | C22: 311201057 | D22: 乳房按摩 | G22: 次
A23: 21 | B23: E | C23: 311201057-1 | D23: 乳房微波按摩 | G23: 次
A24: 22 | B24: E | C24: 311201057-2 | D24: 吸乳 | G24: 次
A25: 23 | B25: E | C25: 311202009 | D25: 新生儿蓝光治疗 | E25: 含蓝光灯、眼罩。 | G25: 小时
A26: 24 | B26: G | C26: 311300003 | D26: 关节腔灌注治疗 | G26: 次
A27: 25 | B27: E | C27: 311400015 | D27: 黑光治疗(PUVA治疗) | G27: 每部位
A28: 26 | B28: E | C28: 311400016 | D28: 红光治疗 | G28: 每部位
A29: 27 | B29: E | C29: 311400047 | D29: 护架烤灯热疗 | E29: =VLOOKUP(D29,[2]基本目录!$D$11:$H$7000,2,FALSE) -> 限烧伤病房。 | G29: 千瓦时
A30: 28 | B30: E | C30: 311400048 | D30: 烧伤大型远红外线治疗机治疗 | G30: 次
A31: 29 | B31: E | C31: 311400058 | D31: 窄谱紫外线治疗 | E31: =VLOOKUP(D31,[2]基本目录!$D$11:$H$7000,2,FALSE) -> 含UVA、UVB治疗。 | G31: 次 | H31: =VLOOKUP(D31,[2]基本目录!$D$11:$H$7000,5,FALSE) -> 照射1个部位为1次
A32: 30 | B32: E | C32: 311400058-1 | D32: 全身窄谱紫外线治疗 | E32: =VLOOKUP(D32,[2]基本目录!$D$11:$H$7000,2,FALSE) -> 含UVA、UVB治疗。 | G32: 次 | H32: =VLOOKUP(D32,[2]基本目录!$D$11:$H$7000,5,FALSE) -> 3个以上部位按全身收费。
A33: 31 | B33: E | C33: 330100019S | D33: 体外循环热疗
A34: 32 | B34: E | C34: 330100019S-1 | D34: 全身体外循环热疗(EWBH) | E34: 填写患者基本资料、摆位要求。采用全身体外热循环灌注仪治疗，温度测量，热疗范围温度要求40-43℃。 | F34: 氧合器、管道、插管、心肌保护液灌输系统、滤器、血液浓缩器、离心泵 | G34: 次
A35: 33 | B35: E | C35: 330100019S-2 | D35: 区域热循环灌注热疗 | E35: =VLOOKUP(D35,[2]基本目录!$D$11:$H$7000,2,FALSE) -> 填写患者基本资料、摆位要求。采用热循环灌注仪治疗，温度测量，热疗范围温度要求40-45℃。 | F35: =VLOOKUP(D35,[2]基本目录!$D$11:$H$7000,3,FALSE) -> 治疗管道组件（热交换器、过滤器、泵管、药液袋、温度监测、配管等）、引流管 | G35: 次
A36: 34 | B36: E | C36: 340100017 | D36: 超声波治疗 | E36: =VLOOKUP(D36,[2]基本目录!$D$11:$H$7000,2,FALSE) -> 指使用超声波治疗仪治疗。 | G36: 每5分钟
A37: 35 | B37: G | C37: 330604028 | D37: 睡眠呼吸暂停综合征射频温控消融治疗术 | E37: =VLOOKUP(D37,[2]基本目录!$D$11:$H$7000,2,FALSE) -> 指鼻甲、软腭、舌根肥大,鼻鼾症,阻塞性睡眠呼吸暂停综合征。 | G37: 次
A38: 36 | B38: G | C38: 330703001 | D38: 开胸冷冻治疗 | E38: =VLOOKUP(D38,[2]基本目录!$D$11:$H$7000,2,FALSE) -> 含各种不能切除之胸部肿瘤。 | G38: 次
A39: 37 | B39: G | C39: 330703002 | D39: 开胸肿瘤特殊治疗 | E39: =VLOOKUP(D39,[2]基本目录!$D$11:$H$7000,2,FALSE) -> 指激光、微波、射频消融等方法。 | G39: 次
A40: 38 | B40: G | C40: 331501058 | D40: 椎间盘微创消融术 | G40: 每间盘
A41: 39 | B41: G | C41: 331501058-1 | D41: 腰椎间盘等离子消融术 | F41: =VLOOKUP(D41,[2]基本目录!$D$11:$H$7000,3,FALSE) -> 一次性等离子刀 | G41: 每间盘 | H41: =VLOOKUP(D41,[2]基本目录!$D$11:$H$7000,5,FALSE) -> 不得同时收取使用等离子刀加收费用。
A42: 40 | B42: G | C42: 331501058-1/1 | D42: 腰椎间盘等离子消融术加收(每增加一间盘) | G42: 每间盘
A43: 41 | B43: G | C43: 331501058-2 | D43: 颈椎间盘等离子消融术 | F43: =VLOOKUP(D43,[2]基本目录!$D$11:$H$7000,3,FALSE) -> 一次性等离子刀 | G43: 每间盘 | H43: =VLOOKUP(D43,[2]基本目录!$D$11:$H$7000,5,FALSE) -> 不得同时收取使用等离子刀加收费用。
A44: 42 | B44: G | C44: 331501058-2/1 | D44: 颈椎间盘等离子消融术加收(每增加一间盘) | G44: 每间盘
A45: 43 | B45: G | C45: 331501058-3 | D45: 腰椎间盘臭氧消融术 | G45: 每间盘
A46: 44 | B46: G | C46: 331501058-3/1 | D46: 腰椎间盘臭氧消融术加收(每增加一间盘) | G46: 每间盘
A47: 45 | B47: G | C47: 331501058-4 | D47: 颈椎间盘臭氧消融术 | G47: 每间盘
A48: 46 | B48: G | C48: 331501058-4/1 | D48: 颈椎间盘臭氧消融术加收(每增加一间盘) | G48: 每间盘
A49: 47 | B49: G | C49: 331501058-5 | D49: 腰椎间盘电热疗消融术 | G49: 每间盘
A50: 48 | B50: G | C50: 331501058-5/1 | D50: 腰椎间盘电热疗消融术加收(每增加一间盘) | G50: 每间盘
A51: 49 | B51: G | C51: 331501058-5/2 | D51: 腰椎间盘电热疗消融术加收(双极射频) | G51: 每间盘
A52: 50 | B52: G | C52: 331501058-6 | D52: 颈椎间盘电热疗消融术 | G52: 每间盘
A53: 51 | B53: G | C53: 331501058-6/1 | D53: 颈椎间盘电热疗消融术加收(每增加一间盘) | G53: 每间盘
A54: 52 | B54: G | C54: 331501058-6/2 | D54: 颈椎间盘电热疗消融术加收(双极射频) | G54: 每间盘
A55: 53 | B55: G | C55: 331501058-9 | D55: 腰椎间盘射频消融术 | E55: =VLOOKUP(D55,[2]基本目录!$D$11:$H$7000,2,FALSE) -> 含射频电极。 | G55: 每间盘
A56: 54 | B56: G | C56: 331501058-9/1 | D56: 腰椎间盘射频消融术加收(每增加一间盘) | G56: 每间盘
A57: 55 | B57: G | C57: 331501058-9/2 | D57: 腰椎间盘射频消融术加收(双极射频) | G57: 每间盘
A58: 56 | B58: G | C58: 331501058-10 | D58: 颈椎间盘射频消融术 | E58: 含射频电极。 | G58: 每间盘
A59: 57 | B59: G | C59: 331501058-10/1 | D59: 颈椎间盘射频消融术加收(每增加一间盘) | G59: 每间盘
A60: 58 | B60: G | C60: 331501058-10/2 | D60: 颈椎间盘射频消融术加收(双极射频) | G60: 每间盘
A61: 59 | B61: E | C61: 340100001 | D61: 红外线治疗 | E61: =VLOOKUP(D61,[2]基本目录!$D$11:$H$7000,2,FALSE) -> 指远、近红外线：TDP、近红外线气功治疗、红外线真空拔罐治疗、红外线光浴治疗、远红外医疗舱治疗。 | G61: 每个照射区 | H61: =VLOOKUP(D61,[2]基本目录!$D$11:$H$7000,5,FALSE) -> 每区照射20分钟。
A62: 60 | B62: E | C62: 340100002 | D62: 可见光照射治疗 | E62: 指应用可见光波段光辐射器对人体病变部位进行体表照射。 | G62: 每个照射区
A63: 61 | B63: E | C63: 340100003 | D63: 偏振光照射 | G63: 每个照射区
A64: 62 | B64: E | C64: 340100004 | D64: 紫外线治疗 | E64: =VLOOKUP(D64,[2]基本目录!$D$11:$H$7000,2,FALSE) -> 指长、中、短波紫外线、低压紫外线、高压紫外线、水冷式、导子紫外线、光化学疗法。 | G64: 每个照射区
A65: 63 | B65: D | C65: 340100004-1 | D65: 紫外线生物剂量测定 | G65: 每个照射区
A66: 64 | B66: E | C66: 340100005 | D66: 激光疗法 | E66: =VLOOKUP(D66,[2]基本目录!$D$11:$H$7000,2,FALSE) -> 含原光束、散焦激光疗法。 | G66: 每个照射区
A67: 65 | B67: E | C67: 340100006 | D67: 光敏疗法 | E67: =VLOOKUP(D67,[2]基本目录!$D$11:$H$7000,2,FALSE) -> 含紫外线、激光。 | G67: 每个照射区
A68: 66 | B68: E | C68: 340100008 | D68: 直流电治疗 | E68: =VLOOKUP(D68,[2]基本目录!$D$11:$H$7000,2,FALSE) -> 指单纯直流电治疗、直流电药物离子导入治疗、直流电水浴治疗、（单、双、四槽浴）、电化学疗法。 | G68: 每部位
A69: 67 | B69: E | C69: 340100009 | D69: 低频脉冲电治疗 | E69: =VLOOKUP(D69,[2]基本目录!$D$11:$H$7000,2,FALSE) -> 指感应电治疗、神经肌肉电刺激治疗、间动电疗、经皮神经电刺激治疗、功能性电刺激治疗、温热电脉冲治疗、微机功能性电刺激治疗、银棘状刺激疗法（SSP）。 | G69: 每部位
A70: 68 | B70: E | C70: 340100010 | D70: 中频脉冲电治疗 | E70: =VLOOKUP(D70,[2]基本目录!$D$11:$H$7000,2,FALSE) -> 指中频脉冲电治疗、音频电治疗、干扰电治疗、动态干扰电治疗、立体动态干扰电治疗、调制中频电治疗、电脑中频电治疗。 | G70: 每部位
A71: 69 | B71: E | C71: 340100011 | D71: 共鸣火花治疗 | G71: 每5分钟
A72: 70 | B72: E | C72: 340100012 | D72: 超短波短波治疗 | E72: =VLOOKUP(D72,[2]基本目录!$D$11:$H$7000,2,FALSE) -> 指小功率超短波和短波、大功率超短波和短波、脉冲超短波和短波、体腔治疗。 | G72: 每部位
A73: 71 | B73: E | C73: 340100013 | D73: 微波治疗 | E73: =VLOOKUP(D73,[2]基本目录!$D$11:$H$7000,2,FALSE) -> 指分米波、厘米波、毫米波、微波组织凝固、体腔治疗。 | G73: 每部位
A74: 72 | B74: E | C74: 340100014 | D74: 射频电疗 | E74: =VLOOKUP(D74,[2]基本目录!$D$11:$H$7000,2,FALSE) -> 指大功率短波、分米波、厘米波。 | G74: 次
A75: 73 | B75: E | C75: 340100015 | D75: 静电治疗 | E75: =VLOOKUP(D75,[2]基本目录!$D$11:$H$7000,2,FALSE) -> 指低压、高压静电治疗、高电位治疗。 | G75: 每20分钟
A76: 74 | B76: E | C76: 340100018 | D76: 电子生物反馈疗法 | E76: =VLOOKUP(D76,[2]基本目录!$D$11:$H$7000,2,FALSE) -> 含肌电、皮温、皮电、脑电、心率各种生物反馈。 | G76: 次
A77: 75 | B77: E | C77: 340100019 | D77: 磁疗 | E77: =VLOOKUP(D77,[2]基本目录!$D$11:$H$7000,2,FALSE) -> 指脉冲式、交变等不同机型又分低频磁、高频磁及热点磁、强磁场刺激、热磁振。 | G77: 每20分钟
A78: 76 | B78: E | C78: 340100020 | D78: 水疗 | E78: =VLOOKUP(D78,[2]基本目录!$D$11:$H$7000,2,FALSE) -> 指药物浸浴、气泡浴、哈伯特槽浴（8字槽）、旋涡浴（分上肢、下肢）。 | G78: 每20分钟
A79: 77 | B79: E | C79: 340100021 | D79: 蜡疗 | E79: =VLOOKUP(D79,[2]基本目录!$D$11:$H$7000,2,FALSE) -> 指浸蜡、刷蜡、蜡敷。 | G79: 每部位
A80: 78 | B80: E | C80: 340100022 | D80: 泥疗 | E80: =VLOOKUP(D80,[2]基本目录!$D$11:$H$7000,2,FALSE) -> 指电泥疗、泥敷。 | G80: 每部位
A81: 79 | B81: E | C81: 340100022-1 | D81: 全身泥疗 | G81: 次
A82: 80 | B82: E | C82: 340100023 | D82: 牵引 | G82: 次
A83: 81 | B83: E | C83: 340100023-1 | D83: 颈椎牵引 | G83: 次
A84: 82 | B84: E | C84: 340100023-2 | D84: 腰椎牵引 | G84: 次
A85: 83 | B85: E | C85: 340100023-3 | D85: 悬吊治疗 | G85: 次
A86: 84 | B86: E | C86: 340100023-4 | D86: 脊柱矫正治疗 | G86: 次
A87: 85 | B87: E | C87: 340100023-5 | D87: 抗痉挛治疗 | G87: 次
A88: 86 | B88: E | C88: 340100024 | D88: 气压治疗 | E88: =VLOOKUP(D88,[2]基本目录!$D$11:$H$7000,2,FALSE) -> 指肢体气压治疗、肢体正负压治疗。 | G88: 单肢
A89: 87 | B89: E | C89: 340100025 | D89: 冷疗 | G89: 每部位
A90: 88 | B90: E | C90: 340100026 | D90: 电按摩 | E90: =VLOOKUP(D90,[2]基本目录!$D$11:$H$7000,2,FALSE) -> 指电动按摩、电热按摩、局部电按摩。 | G90: 每20分钟
A91: 89 | B91: E | C91: 340100028S | D91: 骨骼肌肉疼痛冲击波治疗 | G91: 次
A92: 90 | B92: E | C92: 340100029S | D92: 超激光疼痛治疗 | G92: 次
A93: 91 | B93: E | C93: 460000020 | D93: 混合痔铜离子电化学治疗术 | F93: =VLOOKUP(D93,[2]基本目录!$D$11:$H$7000,3,FALSE) -> 铜离子针 | G93: 次
A94: 92 | B94: E | C94: 460000020-1 | D94: 内痔铜离子电化学治疗术 | F94: =VLOOKUP(D94,[2]基本目录!$D$11:$H$7000,3,FALSE) -> 铜离子针 | G94: 次
