Workbook

Sheet 一般治疗类医疗服务价格项目废止表
A1: 附件3
A2: 一般治疗类医疗服务价格项目废止表
A3: 序号 | B3: 财务分类 | C3: 项目编码 | D3: 项目名称 | E3: 项目内涵 | F3: 除外内容 | G3: 计价单位 | H3: 说明
A4: 1 | B4: F | C4: 120100011 | D4: 吸痰护理 | E4: 含叩背、吸痰；不含雾化吸入。 | F4: 一次性吸痰管、一次性吸引瓶内胆、一次性引流管 | G4: 次 | H4: 每日收费不超过24次。
A5: 2 | B5: E | C5: 120100015 | D5: 机械辅助排痰 | E5: 指无力自主排痰的机械振动辅助治疗。 | G5: 次 | H5: 每天收费不超过3次。
A6: 3 | B6: E | C6: 120300001 | D6: 氧气吸入 | F6: 一次性鼻导管、鼻塞、面罩 | G6: 小时
A7: 4 | B7: E | C7: 120300001-1 | D7: 低流量给氧 | F7: 一次性鼻导管、鼻塞、面罩 | G7: 小时
A8: 5 | B8: E | C8: 120300001-2 | D8: 中流量给氧 | F8: 一次性鼻导管、鼻塞、面罩 | G8: 小时
A9: 6 | B9: E | C9: 120300001-3 | D9: 高流量给氧 | F9: 一次性鼻导管、鼻塞、面罩 | G9: 小时
A10: 7 | B10: E | C10: 120300001-4 | D10: 氧气创面治疗 | F10: 一次性鼻导管、鼻塞、面罩 | G10: 小时
A11: 8 | B11: E | C11: 120300001-5 | D11: 加压给氧加收 | G11: 小时
A12: 9 | B12: E | C12: 120300002S | D12: 高流量氧疗 | E12: 指使用空氧混合装置持续为患者提供一定流量（>30L/min）、加温湿化的呼吸气体，对氧合指数<300mmHg的重症患者进行治疗。 | F12: 呼吸管路、导管、面罩、接头 | G12: 小时 | H12: 不得与“呼吸机辅助呼吸”和“无创辅助通气项目”同时收费。
A13: 10 | B13: E | C13: 120400000-1 | D13: 注射加收(使用微量泵或输液泵) | G13: 每小时/组
A14: 11 | B14: E | C14: 120400001 | D14: 肌肉注射 | G14: 次
A15: 12 | B15: E | C15: 120400001-1 | D15: 皮下注射 | G15: 次
A16: 13 | B16: E | C16: 120400001-2 | D16: 皮内注射 | G16: 次
A17: 14 | B17: E | C17: 120400002 | D17: 静脉注射 | G17: 次 | H17: 留置静脉针使用透明敷贴另收。
A18: 15 | B18: E | C18: 120400002-1 | D18: 静脉采血 | G18: 次 | H18: 留置静脉针使用透明敷贴另收。
A19: 16 | B19: G | C19: 120400003 | D19: 心内注射 | G19: 次
A20: 17 | B20: E | C20: 120400004 | D20: 动脉加压注射 | G20: 次
A21: 18 | B21: E | C21: 120400004-1 | D21: 动脉采血 | G21: 次
A22: 19 | B22: E | C22: 120400005 | D22: 皮下输液 | G22: 次
A23: 20 | B23: E | C23: 120400006 | D23: 静脉输液 | E23: 指从核对、配药、穿刺、滴注、中途接瓶（袋）至拔针（留置针分离）结束的服务全过程。 | G23: 组 | H23: 留置静脉针使用透明敷贴另收。
A24: 21 | B24: E | C24: 120400006-1 | D24: 住院静脉输液 | G24: 组
A25: 22 | B25: E | C25: 120400006-1/1 | D25: 住院输血 | G25: 组
A26: 23 | B26: E | C26: 120400006-2 | D26: 门诊静脉输液 | G26: 组
A27: 24 | B27: E | C27: 120400006-2/1 | D27: 门诊输血 | G27: 组
A28: 25 | B28: E | C28: 120400006-3 | D28: 静脉连续输液(第二组及以上) | G28: 组
A29: 26 | B29: E | C29: 120400006-5 | D29: 骨髓腔内输液 | E29: 指骨髓腔内的输液、输血，不含骨髓穿刺。 | G29: 组
A30: 27 | B30: E | C30: 120400007 | D30: 小儿头皮静脉输液 | G30: 组
A31: 28 | B31: E | C31: 120400007-1 | D31: 小儿头皮静脉连续输液(第二组及以上) | G31: 组
A32: 29 | B32: E | C32: 120400008 | D32: 肠内营养液配置 | F32: 营养袋 | G32: 瓶/袋
A33: 30 | B33: G | C33: 120400009 | D33: 静脉切开置管术 | G33: 次
A34: 31 | B34: E | C34: 120400010 | D34: 静脉穿刺置管术 | E34: 指使用PICC导管进行的外周静脉穿刺。 | F34: 导管、血管鞘 | G34: 次
A35: 32 | B35: E | C35: 120400011 | D35: 中心静脉穿刺置管术 | F35: 中心静脉套件、测压套件、透明敷贴
A36: 33 | B36: E | C36: 120400011-1 | D36: 中心静脉穿刺置管术 | F36: 中心静脉套件、测压套件、透明敷贴 | G36: 次
A37: 34 | B37: E | C37: 120400011-2 | D37: 中心静脉测压 | G37: 次
A38: 35 | B38: E | C38: 120400011-3 | D38: 深静脉穿刺置管术 | F38: 中心静脉套件、测压套件、透明敷贴 | G38: 次
A39: 36 | B39: G | C39: 120400012 | D39: 动脉穿刺置管术 | F39: 一次性特殊动脉穿刺针、透明敷贴 | G39: 次
A40: 37 | B40: E | C40: 120500001 | D40: 清创缝合(大) | G40: 次 | H40: 缝合11针以上。
...

Sheet 药学类医疗服务价格项目废止表
A1: 药学类医疗服务价格项目废止表
A2: 序号 | B2: 财务分类 | C2: 编码 | D2: 项目名称 | E2: 项目内涵 | F2: 除外内容 | G2: 计价单位 | H2: 说明
A3: 1 | B3: E | C3: 120400013 | D3: 化学药物配置 | G3: 组
A4: 2 | B4: E | C4: 120400013-1 | D4: 抗肿瘤化学药物配置 | E4: 指在符合静脉药物集中配置管理规定、有严格消毒隔离措施的中心配置间或普通药物配置间进行抗肿瘤化学药物配置。 | G4: 组
A5: 3 | B5: E | C5: 120400013-2 | D5: 全静脉营养液配置 | E5: 指在符合静脉营养药物配置管理规定，有严格消毒隔离措施的中心配置间或普通药物配制间里进行全静脉营养液配置。 | F5: 营养袋 | G5: 组
A6: 4 | B6: E | C6: 120400013-3 | D6: 其他静脉药物配置 | E6: 指在符合静脉药物集中配置管理规定、有严格消毒隔离措施的中心配置间里进行静脉药物配置。 | G6: 组
A7: 5 | B7: E | C7: 120400014S | D7: 百级静脉用药药物调配 | E7: 指在超净配药装置内创建局部密闭百级洁净环境，使用无菌溶药器进行配药。含一次性使用无菌无芯杆溶药器带针。 | G7: 组
A8: 6 | B8: H | C8: 250309005 | D8: 血清药物浓度测定 | G8: 每种药物
A9: 7 | B9: H | C9: 250309005-1 | D9: 血清药物浓度测定-免疫学法 | G9: 每种药物
A10: 8 | B10: H | C10: 250309005-2 | D10: 血清药物浓度测定-质谱法 | E10: 指色谱、质谱法检测血清药物浓度。 | G10: 每种药物
A11: 9 | B11: H | C11: 250309005-3 | D11: 血清药物浓度测定-多抗法 | G11: 每种药物
A12: 10 | B12: H | C12: 250309005-4 | D12: 血清药物浓度测定-单抗法 | G12: 每种药物
A13: 11 | B13: E | C13: 480000003 | D13: 中药特殊调配
A14: 12 | B14: E | C14: 480000003-1 | D14: 煎膏调配 | G14: 剂
A15: 13 | B15: E | C15: 480000003-2 | D15: 合剂调配 | G15: 百克
A16: 14 | B16: E | C16: 480000003-3 | D16: 胶囊剂调配 | G16: 百克
A17: 15 | B17: E | C17: 480000003-4 | D17: 蜜丸调配 | G17: 百克
A18: 16 | B18: E | C18: 480000003-5 | D18: 水蜜丸调配 | G18: 百克
A19: 17 | B19: E | C19: 480000003-6 | D19: 水丸调配 | G19: 百克
A20: 18 | B20: E | C20: 480000003-7 | D20: 散剂调配 | G20: 百克
A21: 19 | B21: I | C21: 480000004 | D21: 人工煎药 | G21: 剂
A22: 20 | B22: I | C22: 480000005 | D22: 煎药机煎药 | G22: 剂

Sheet 病理类医疗服务价格项目废止表
A1: 病理类医疗服务价格项目废止表
A2: 序号 | B2: 财务分类 | C2: 编码 | D2: 项目名称 | E2: 项目内涵 | F2: 除外内容 | G2: 计价单位 | H2: 说明
A3: 1 | B3: H | C3: 250700017-5 | D3: 白血病融合基因分型-FISH | G3: 每种
A4: 2 | B4: H | C4: 250700017-6 | D4: 其他疾病的基因分型-FISH | G4: 每种
A5: 3 | B5: H | C5: 250700017-7 | D5: 基因表达定量-FISH | G5: 每种
A6: 4 | B6: H | C6: 250700017-8 | D6: 基因突变及多态性分析-FISH | G6: 每种
A7: 5 | B7: H | C7: 250700021S-2 | D7: Y染色体(AZF基因)微缺失检测-荧光(FISH)法 | G7: 项
A8: 6 | B8: H | C8: 250700021S-4 | D8: 其他染色体微缺失检测-荧光(FISH)法 | G8: 项
C9: 27 | D9: 病理检查
A10: 7 | B10: H | C10: 270000000-1 | D10: 病理标本检查与诊断加收（特异性感染标本） | E10: 冰冻切片、快速石蜡、体液细胞（胸水、腹水、心包液）、脱落细胞（尿、痰、宫颈、窥镜刷片）标本。 | G10: 例
C11: 2701 | D11: 1.尸体解剖与防腐处理
A12: 8 | B12: H | C12: 270100001 | D12: 尸检病理诊断 | E12: 含7岁及以上儿童及成人尸解、尸检后常规缝合处理、尸检标本的组织病理诊断、尸检废弃物处理；不含组织病理学诊断中使用的特殊病理技术、尸检后对遗体的特殊处理，如：遗体火化或掩埋；肢体离断或大面积撕裂尸体的复杂修复与整容等。 | G12: 次 | H12: 局部解剖诊断按全身解剖计价。
A13: 9 | B13: H | C13: 270100001-1 | D13: 尸体尸检病理诊断加收(传染病和特异性感染病) | G13: 次
A14: 10 | B14: H | C14: 270100002 | D14: 儿童及胎儿尸检病理诊断 | E14: 指7岁以下儿童及胎儿尸解，其余同尸检病理诊断。 | G14: 次
A15: 11 | B15: H | C15: 270100003 | D15: 尸体化学防腐处理 | E15: 含各种手术操作及消耗材料、废弃物处理。 | F15: 防腐药物 | G15: 次
C16: 2702 | D16: 2.细胞病理学检查与诊断 | E16: 不含采集标本的临床操作、细胞病理学标本的非常规诊断技术，如：电镜检查、组织化学与免疫组化染色、图象分析技术、流式细胞术、计算机细胞筛选技术、分子病理学检查等。 | H16: 以两张涂（压）片为基价。
A17: 12 | B17: H | C17: 270200000-1 | D17: 细胞病理学检查与诊断加收(超过两张涂压片) | G17: 片
A18: 13 | B18: H | C18: 270200001 | D18: 体液细胞学检查与诊断 | E18: 指胸水、腹水、心包液、脑脊液、精液、各种囊肿穿刺液、唾液、龈沟液的细胞学检查与诊断。 | G18: 例 | H18: 每种标本计价一次。
A19: 14 | B19: H | C19: 270200001-1 | D19: 体液细胞学检查与诊断加收(塑料包埋标本) | G19: 例
A20: 15 | B20: H | C20: 270200002 | D20: 拉网细胞学检查与诊断 | E20: 指食管、胃等拉网细胞学检查与诊断。 | G20: 例
A21: 16 | B21: H | C21: 270200003 | D21: 细针穿刺细胞学检查与诊断 | E21: 指各种实质性脏器的细针穿刺标本的涂片（压片）检查及诊断。 | G21: 例
A22: 17 | B22: H | C22: 270200004 | D22: 脱落细胞学检查与诊断 | E22: 指脑脊液、子宫内膜、宫颈、阴道、痰、口腔粘液涂片、乳腺溢液、窥镜刷片及其他脱落细胞学的各种涂片检查及诊断。 | G22: 例 | H22: 每种标本计价一次。
A23: 18 | B23: H | C23: 270200005 | D23: 细胞学计数 | E23: 不含骨髓涂片计数。 | G23: 例
A24: 19 | B24: H | C24: 270200005-1 | D24: 支气管灌洗液细胞计数 | E24: 不含骨髓涂片计数。 | G24: 例
A25: 20 | B25: H | C25: 270200005-2 | D25: 脑脊液细胞计数 | E25: 不含骨髓涂片计数。 | G25: 例
C26: 2703 | D26: 3.组织病理学检查与诊断 | E26: 不含采集标本的临床操作、组织病理学标本的非常规诊断技术，如：电镜检查、组织化学与免疫组化染色、图象分析技术、 流式细胞术、计算机细胞筛选技术、 分子病理学检查等。
A27: 21 | B27: H | C27: 270300001 | D27: 穿刺组织活检检查与诊断 | E27: 指肾、乳腺、体表肿块等穿刺组织活检及诊断。 | G27: 例 | H27: 以两个蜡块为基价。每种组织计价一次。
A28: 22 | B28: H | C28: 270300001-1/1 | D28: 穿刺组织活检检查与诊断加收(超过两个蜡块) | G28: 每个蜡块
A29: 23 | B29: H | C29: 270300001-2 | D29: 各种体液细胞沉渣切片检查与诊断 | G29: 例 | H29: 以两个蜡块为基价。
A30: 24 | B30: H | C30: 270300001-2/1 | D30: 各种体液细胞沉渣切片检查与诊断加收(超过两个蜡块) | G30: 每个蜡块
A31: 25 | B31: H | C31: 270300002 | D31: 内镜组织活检检查与诊断 | G31: 例 | H31: 以两个蜡块为基价。
A32: 26 | B32: H | C32: 270300002-1 | D32: 内镜组织活检检查与诊断加收(超过两个蜡块) | G32: 每个蜡块
A33: 27 | B33: H | C33: 270300003 | D33: 局部切除组织活检检查与诊断 | E33: 指切除组织、咬取组织、切除肿块部分组织的活检。 | G33: 每个部位 | H33: 以两个蜡块为基价。
A34: 28 | B34: H | C34: 270300003-1 | D34: 局部切除组织活检检查与诊断加收(超过两个蜡块) | G34: 每个蜡块
A35: 29 | B35: H | C35: 270300004 | D35: 骨髓组织活检检查与诊断 | E35: 指骨髓组织标本常规染色检查。 | G35: 例
A36: 30 | B36: H | C36: 270300005 | D36: 手术标本检查与诊断 | E36: 含标本处理。 | G36: 例 | H36: 以两个蜡块为基价。
A37: 31 | B37: H | C37: 270300005-1 | D37: 手术标本检查与诊断加收(超过两个蜡块) | G37: 每个蜡块
A38: 32 | B38: H | C38: 270300005-2 | D38: 手术标本检查与诊断加收(塑料包埋) | G38: 例
A39: 33 | B39: H | C39: 270300006 | D39: 截肢标本病理检查与诊断 | E39: 含标本处理，指上下肢截肢标本等。 | G39: 每肢、每指（趾） | H39: 以两个蜡块为基价。
A40: 34 | B40: H | C40: 270300006-1 | D40: 截肢标本病理检查与诊断加收(超过两个蜡块) | G40: 每个蜡块
...

Sheet 手术和治疗辅助操作类医疗服务价格项目废止表
B1: 手术和治疗辅助操作类医疗服务价格项目废止表
A2: 序号 | B2: 财务分类 | C2: 编码 | D2: 项目名称 | E2: 项目内涵 | F2: 除外内容 | G2: 计价单位 | H2: 说明
A3: 1 | B3: D | C3: 210101004 | D3: C型臂术中透视 | G3: 半小时
A4: 2 | B4: D | C4: 210101004-1 | D4: C型臂术中透视(使用影像增强器或电视屏) | G4: 半小时
A5: 3 | B5: D | C5: 210102017 | D5: 非血管介入临床操作数字减影(DSA)引导 | G5: 次
A6: 4 | B6: D | C6: 210200008 | D6: 临床操作的磁共振引导 | G6: 每半小时
A7: 5 | B7: D | C7: 220201009 | D7: 临床操作的B超引导 | G7: 每半小时
A8: 6 | B8: D | C8: 220202003 | D8: 临床操作的腔内B超引导 | G8: 每半小时
A9: 7 | B9: D | C9: 210300005 | D9: 临床操作的CT引导 | G9: 每半小时
A10: 8 | B10: D | C10: 220302012 | D10: 临床操作的彩色多普勒超声引导 | G10: 每半小时
A11: 9 | B11: G | C11: 300000000-1 | D11: 使用双电极电凝器(PK)刀加收 | G11: 次
A12: 10 | B12: G | C12: 300000000-2 | D12: 使用双极电凝钳加收 | G12: 次
A13: 11 | B13: G | C13: 300000000-3 | D13: 使用氩气刀加收 | G13: 次
A14: 12 | B14: G | C14: 300000000-4 | D14: 使用超声刀加收(基准项目价格在1500元以下) | G14: 次 | H14: 基准项目不含三大类和31、32、33大类加收及麻醉项目。
A15: 13 | B15: G | C15: 300000000-5 | D15: 使用等离子刀加收(基准项目价格在1500元以下) | G15: 次 | H15: 基准项目不含三大类和31、32、33大类加收及麻醉项目。
A16: 14 | B16: G | C16: 300000000-6 | D16: 使用血管闭合系统加收(基准项目价格在1500元以下) | G16: 次 | H16: 基准项目不含三大类和31、32、33大类加收及麻醉项目。
A17: 15 | B17: G | C17: 300000000-7 | D17: 使用超声刀加收(基准项目价格1500-2500元) | G17: 次 | H17: 基准项目不含三大类和31、32、33大类加收及麻醉项目。
A18: 16 | B18: G | C18: 300000000-8 | D18: 使用等离子刀加收(基准项目价格1500-2500元) | G18: 次 | H18: 基准项目不含三大类和31、32、33大类加收及麻醉项目。
A19: 17 | B19: G | C19: 300000000-9 | D19: 使用血管闭合系统加收(基准项目价格1500-2500元) | G19: 次 | H19: 基准项目不含三大类和31、32、33大类加收及麻醉项目。
A20: 18 | B20: G | C20: 300000000-10 | D20: 使用超声刀加收(基准项目价格在2500元以上) | G20: 次 | H20: 基准项目不含三大类和31、32、33大类加收及麻醉项目。
A21: 19 | B21: G | C21: 300000000-11 | D21: 使用等离子刀加收(基准项目价格在2500元以上) | G21: 次 | H21: 基准项目不含三大类和31、32、33大类加收及麻醉项目。
A22: 20 | B22: G | C22: 300000000-12 | D22: 使用血管闭合系统加收(基准项目价格在2500元以上) | G22: 次 | H22: 基准项目不含三大类和31、32、33大类加收及麻醉项目。
A23: 21 | B23: G | C23: 300000000-13 | D23: 使用动力钻加收 | G23: 次
A24: 22 | B24: G | C24: 300000000-14 | D24: 使用动力磨加收 | G24: 次
A25: 23 | B25: G | C25: 300000000-15 | D25: 使用动力锯加收 | G25: 次
A26: 24 | B26: E | C26: 300000000-16 | D26: 使用骨动力系统加收 | G26: 次 | H26: 超声骨刀按此项目收费。
A27: 25 | B27: G | C27: 300000000-17 | D27: 使用微动力系统加收 | G27: 次
A28: 26 | B28: G | C28: 300000000-18 | D28: 使用电动取皮刀加收 | G28: 次
A29: 27 | B29: G | C29: 300000000-19 | D29: 使用螺旋水刀加收 | G29: 次
A30: 28 | B30: G | C30: 300000000-20 | D30: 使用血管解剖刀加收 | G30: 次
A31: 29 | B31: E | C31: 300000000-21 | D31: 使用超声吸引辅助操作加收 | G31: 次 | H31: 超声吸引骨刀按此项目收费。
A32: 30 | B32: G | C32: 300000000-22 | D32: 使用激光刀加收 | G32: 次
A33: 31 | B33: G | C33: 300000000-23 | D33: 使用钬激光加收 | G33: 次
A34: 32 | B34: G | C34: 300000000-24 | D34: 使用荧光显影辅助操作加收 | G34: 次
A35: 33 | B35: G | C35: 300000000F-1 | D35: 个体化3D模型重建 | E35: 根据患者病变的CT数据使用专用计算机辅助软件重建3D模型。 | G35: 次
A36: 34 | B36: G | C36: 300000000F-2 | D36: 个体化3D模型制备 | E36: 打印出实体模型结构。 | G36: 次
A37: 35 | B37: G | C37: 300000000F-3 | D37: 个体化3D手术导版制备 | E37: 打印出实体模型结构。 | G37: 次
A38: 36 | B38: G | C38: 300000000F-4 | D38: 个体化3D可视化手术模型 | E38: 使用各种虚拟现实、增强现实、混合现实、全息影像手段实现术中实时导航。 | G38: 次
A39: 37 | B39: G | C39: 310000000-9 | D39: 诊疗中使用尿道、膀胱镜加收 | G39: 次
A40: 38 | B40: G | C40: 310000000-11 | D40: 诊疗中使用电子显微镜加收 | G40: 次
...

Sheet 眼科类医疗服务价格项目废止表
A1: 眼科类医疗服务价格项目废止表
A2: 序号 | B2: 财务分类 | C2: 编码 | D2: 项目名称 | E2: 项目内涵 | F2: 除外内容 | G2: 计价单位 | H2: 说明
C3: 3103 | D3: 3.眼部
A4: 1 | B4: D | C4: 310300001 | D4: 普通视力检查 | E4: 含远视力、近视力、光机能（包括光感及光定位）、伪盲检查。 | G4: 次/双
A5: 2 | B5: D | C5: 310300002 | D5: 特殊视力检查 | E5: 含儿童图形视力表、点视力表、条栅视力卡、视动性眼震仪。 | G5: 项
A6: 3 | B6: D | C6: 310300003 | D6: 选择性观看检查 | G6: 次/双
A7: 4 | B7: D | C7: 310300004 | D7: 视网膜视力检查 | G7: 次/只
A8: 5 | B8: D | C8: 310300005 | D8: 视野检查 | E8: 指普通视野计、电脑视野计、动态（Goldmann）视野计。 | G8: 次/只
A9: 6 | B9: D | C9: 310300006 | D9: 阿姆斯勒(Amsler)表检查 | G9: 次/双
A10: 7 | B10: D | C10: 310300007 | D10: 验光 | G10: 项
A11: 8 | B11: D | C11: 310300007-1 | D11: 检影 | G11: 项
A12: 9 | B12: D | C12: 310300007-2 | D12: 散瞳 | G12: 项
A13: 10 | B13: D | C13: 310300007-3 | D13: 云雾试验 | G13: 项
A14: 11 | B14: D | C14: 310300007-4 | D14: 试镜 | G14: 项
A15: 12 | B15: E | C15: 310300008 | D15: 镜片检测 | G15: 次/双
A16: 13 | B16: E | C16: 310300009 | D16: 隐形眼镜配置 | E16: 含验光、角膜曲率测量、泪液分泌功能（Schirmer）测定。 | G16: 次
A17: 14 | B17: D | C17: 310300010 | D17: 主导眼检查 | G17: 次/只
A18: 15 | B18: D | C18: 310300011 | D18: 代偿头位测定 | E18: 含使用头位检测仪。 | G18: 次/双
A19: 16 | B19: D | C19: 310300012 | D19: 复视检查 | G19: 次
A20: 17 | B20: D | C20: 310300013 | D20: 斜视度测定 | E20: 含九个注视方向双眼分别注视时的斜度，看远及看近。 | G20: 次/双
A21: 18 | B21: D | C21: 310300013-1 | D21: 视野弧查斜视角 | G21: 次/双
A22: 19 | B22: D | C22: 310300014 | D22: 三棱镜检查 | G22: 次/双
A23: 20 | B23: D | C23: 310300015 | D23: 线状镜检查 | G23: 次/只
A24: 21 | B24: D | C24: 310300016 | D24: 黑氏(Hess)屏检查 | G24: 次/双
A25: 22 | B25: D | C25: 310300017 | D25: 调节/集合测定 | G25: 次/双
A26: 23 | B26: D | C26: 310300018 | D26: 牵拉试验 | E26: 含有无复视及耐受程度、被动牵拉、主动收缩。 | G26: 次/只
A27: 24 | B27: D | C27: 310300019 | D27: 双眼视觉检查 | E27: 含双眼同时知觉、双眼同时视、双眼融合功能、立体视功能。 | G27: 次/双
A28: 25 | B28: D | C28: 310300019-1 | D28: 固视野检查 | G28: 次/双
A29: 26 | B29: D | C29: 310300020 | D29: 色觉检查
A30: 27 | B30: D | C30: 310300020-1 | D30: 色觉检查-普通图谱法 | G30: 次/双
A31: 28 | B31: D | C31: 310300020-2 | D31: 色觉检查-FM-100Hue测试盒法 | G31: 次/只
A32: 29 | B32: D | C32: 310300020-3 | D32: 色觉检查-色觉仪法 | G32: 次/只
A33: 30 | B33: D | C33: 310300021 | D33: 对比敏感度检查 | G33: 次/只
A34: 31 | B34: D | C34: 310300022 | D34: 暗适应测定 | E34: 含图形及报告。 | G34: 次/只
A35: 32 | B35: D | C35: 310300023 | D35: 明适应测定 | G35: 次/双
A36: 33 | B36: D | C36: 310300024 | D36: 正切尺检查 | G36: 次/双
A37: 34 | B37: D | C37: 310300025 | D37: 注视性质检查 | G37: 次/双
A38: 35 | B38: D | C38: 310300026 | D38: 眼象差检查
A39: 36 | B39: D | C39: 310300026-1 | D39: 眼象差检查-手工法 | G39: 次/只
A40: 37 | B40: D | C40: 310300026-2 | D40: 眼象差检查-仪器法 | G40: 次/只
...

Sheet 颌面外科医疗服务价格项目废止表
A1: 颌面外科医疗服务价格项目废止表
A2: 序号 | B2: 财务分类 | C2: 编码 | D2: 项目名称 | E2: 项目内涵 | F2: 除外内容 | G2: 计价单位 | H2: 说明
A3: 1 | B3: E | C3: 310515001 | D3: 颞下颌关节复位 | E3: 指限制下颌运动的手法复位。 | G3: 次
A4: 2 | B4: G | C4: 330605001 | D4: 口腔颌面部小肿物切除术 | E4: 指口腔、颌面部良性小肿物。 | G4: 次
A5: 3 | B5: G | C5: 330605003 | D5: 颌下腺移植术 | E5: 含带血管及导管的颌下腺解剖,受区颞肌切取及颞浅动静脉解剖及导管口易位。 | G5: 次
A6: 4 | B6: G | C6: 330605004 | D6: 涎腺瘘切除修复术 | E6: 含涎腺瘘切除及瘘修补,腮腺导管改道、成形、再造术。 | G6: 次
A7: 5 | B7: G | C7: 330605005 | D7: 下颌骨部分切除术 | E7: 含下颌骨方块及区段切除；不含颌骨缺损修复。 | F7: 特殊材料 | G7: 次
A8: 6 | B8: G | C8: 330605006 | D8: 下颌骨半侧切除术 | E8: 不含颌骨缺损修复。 | F8: 斜面导板、特殊材料 | G8: 次
A9: 7 | B9: G | C9: 330605007 | D9: 下颌骨扩大切除术 | E9: 含大部分下颌骨或全下颌骨及邻近软组织切除；不含颌骨缺损修复。 | F9: 斜面导板、特殊材料 | G9: 次
A10: 8 | B10: G | C10: 330605009 | D10: 上颌骨部分切除术 | E10: 含牙槽突水平以内上颌骨及其邻近软组织区域性切除。 | F10: 腭护板、特殊材料 | G10: 次
A11: 9 | B11: G | C11: 330605010 | D11: 上颌骨次全切除术 | E11: 含牙槽突以上至鼻棘底以下上颌骨及其邻近软组织切除与植皮；不含取皮术。 | F11: 腭护板、特殊材料 | G11: 次
A12: 10 | B12: G | C12: 330605011 | D12: 上颌骨全切术 | E12: 含整个上颌骨及邻近软组织切除与植皮；不含取皮术。 | F12: 腭护板、特殊材料 | G12: 次
A13: 11 | B13: G | C13: 330605012 | D13: 上颌骨扩大切除术 | E13: 整个上颌骨及其周围邻近受侵骨组织及软组织切除与植皮；不含取皮术。 | F13: 腭护板、特殊材料 | G13: 次
A14: 12 | B14: G | C14: 330605015 | D14: 舌恶性肿物切除术 | E14: 含舌整复（舌部分、半舌、全舌切除术）；不含舌再造术。 | G14: 次
A15: 13 | B15: G | C15: 330605017 | D15: 颊部恶性肿物局部扩大切除术 | E15: 含肿物切除及邻位瓣修复；不含颊部大面积缺损游离皮瓣及带蒂皮瓣修复。 | G15: 次
A16: 14 | B16: G | C16: 330605018 | D16: 口底皮样囊肿摘除术 | G16: 次
A17: 15 | B17: G | C17: 330605019 | D17: 口底恶性肿物局部扩大切除术 | E17: 含肿物切除及邻位瓣修复；不含口底部大面积缺损游离皮瓣及带蒂皮瓣修复。 | G17: 次
A18: 16 | B18: G | C18: 330605021 | D18: 口腔颌面颈部异物取出术 | E18: 指枪弹、碎屑、玻璃等异物取出。 | F18: 特殊材料 | G18: 次
A19: 17 | B19: G | C19: 330605023 | D19: 腭部肿物局部扩大切除术 | E19: 不含邻位瓣修复。 | G19: 次
A20: 18 | B20: G | C20: 330605024 | D20: 髁状突肿物切除术 | E20: 含肿物切除及髁突修整；不含人造关节植入。 | F20: 特殊材料 | G20: 次
A21: 19 | B21: G | C21: 330605025 | D21: 颞部肿物切除术 | E21: 含肿物切除及邻位瓣修复；不含颞部大面积缺损游离皮瓣及带蒂皮瓣修复。 | G21: 次
A22: 20 | B22: G | C22: 330605026 | D22: 颌骨骨纤维异常增殖症切除成形术 | E22: 指适用于颧骨、颧弓手术；含异常骨组织切除及骨及邻近软组织成形术。 | G22: 次
A23: 21 | B23: G | C23: 330605027 | D23: 腮腺浅叶肿物切除术 | E23: 含腮腺区肿物切除，腮腺浅叶切除及面神经解剖术；不含面神经修复术。 | G23: 次
A24: 22 | B24: G | C24: 330605028 | D24: 腮腺全切除术 | E24: 含腮腺切除及面神经解剖术；不含面神经修复术。 | G24: 次
A25: 23 | B25: G | C25: 330605028-1 | D25: 腮腺深叶肿物切除术 | E25: 含面神经解剖术。 | G25: 次
A26: 24 | B26: G | C26: 330605029 | D26: 腮腺恶性肿物扩大切除术 | E26: 含腮腺深叶肿物切除，腮腺切除及面神经解剖术；不含面神经修复术。 | G26: 次
A27: 25 | B27: G | C27: 330605031 | D27: 鳃裂囊肿切除术 | G27: 次
A28: 26 | B28: G | C28: 330605031-1 | D28: 鳃裂瘘切除术 | G28: 次
A29: 27 | B29: G | C29: 330605033 | D29: 颌面颈部深部肿物探查术 | E29: 含活检。 | F29: 特殊材料 | G29: 次
A30: 28 | B30: G | C30: 330605034 | D30: 舌下腺切除术 | G30: 次
A31: 29 | B31: G | C31: 330605035 | D31: 舌下腺囊肿袋形术 | F31: 填塞材料 | G31: 次
A32: 30 | B32: G | C32: 330605036 | D32: 颌下腺切除术 | G32: 次
A33: 31 | B33: G | C33: 330605037S | D33: 侵及颅底的颌面部肿瘤颅外扩大根治术 | E33: 不含颅底大面积缺损游离皮瓣及带蒂皮瓣修复。 | G33: 次
A34: 32 | B34: G | C34: 330606002 | D34: 巨舌畸形矫正术 | G34: 次
A35: 33 | B35: G | C35: 330606003 | D35: 舌再造术 | G35: 次
A36: 34 | B36: G | C36: 330606009 | D36: 唇畸形矫正术 | E36: 指厚唇、重唇、薄唇、唇瘢痕、唇弓不齐等；不含唇外翻矫正术。 | F36: 特殊植入材料 | G36: 次
A37: 35 | B37: G | C37: 330606010 | D37: 唇缺损修复术 | E37: 指部分或全唇缺损；不含岛状组织瓣切取移转术。 | G37: 次
A38: 36 | B38: G | C38: 330606011 | D38: 单侧不完全唇裂修复术 | E38: 指唇裂修复、初期鼻畸形矫治、唇功能性修复、唇正中裂修复。 | G38: 次
A39: 37 | B39: G | C39: 330606012 | D39: 单侧完全唇裂修复术 | E39: 指唇裂修复、初期鼻畸形矫治、唇功能性修复、唇正中裂修复；不含犁骨瓣修复术。 | G39: 次
A40: 38 | B40: G | C40: 330606013 | D40: 犁骨瓣修复术 | E40: 含犁骨瓣成形及硬腭前部裂隙关闭。 | G40: 次
...

Sheet 血管淋巴类医疗服务价格项目废止表
A1: 血管淋巴类医疗服务价格项目废止表
A2: 序号 | B2: 财务分类 | C2: 编码 | D2: 项目名称 | E2: 项目内涵 | F2: 除外内容 | G2: 计价单位 | H2: 说明
A3: 1 | B3: D | C3: 310800025 | D3: 淋巴造影术 | F3: 导管 | G3: 次
A4: 2 | B4: G | C4: 311400031 | D4: 血管瘤硬化剂注射治疗 | E4: 指血管畸形、淋巴管畸形、血管瘤的硬化治疗。 | G4: 每个注射点
A5: 3 | B5: D | C5: 320100001 | D5: 经皮选择性静脉造影术 | G5: 次
A6: 4 | B6: D | C6: 320100001-1 | D6: 经皮选择性腔静脉造影术 | G6: 次
A7: 5 | B7: D | C7: 320100001-2 | D7: 经皮选择性肢体静脉造影术 | G7: 次
A8: 6 | B8: D | C8: 320100001-3 | D8: 经皮超选择性静脉造影术 | G8: 次 | H8: 同一静脉系统，选择性和超选择性造影术不得同时收取。
A9: 7 | B9: G | C9: 320100002 | D9: 经皮静脉内激光成形术 | G9: 次
A10: 8 | B10: G | C10: 320200001-1 | D10: 经股动脉置管腹主动脉瘤修复术 | G10: 次
A11: 9 | B11: G | C11: 320200001-2 | D11: 经股动脉置管假性动脉瘤修复术 | G11: 次
A12: 10 | B12: G | C12: 320200001-3 | D12: 经股动脉置管胸主动脉腔内修复术 | G12: 次
A13: 11 | B13: G | C13: 320100003 | D13: 经皮静脉内滤网置入术 | G13: 次
A14: 12 | B14: G | C14: 320100003-1 | D14: 经皮静脉内滤网取出术 | G14: 次
A15: 13 | B15: G | C15: 320100003-2 | D15: 经皮动脉内滤网置入术 | G15: 次
A16: 14 | B16: G | C16: 320100003-3 | D16: 经皮动脉内滤网取出术 | G16: 次
A17: 15 | B17: G | C17: 320100004 | D17: 经皮静脉球囊扩张术 | G17: 次
A18: 16 | B18: G | C18: 320100006 | D18: 经皮静脉内支架置入术 | E18: 含球囊扩张、支架置入。 | G18: 次
A19: 17 | B19: G | C19: 320100007 | D19: 经皮静脉内旋切术 | G19: 次
A20: 18 | B20: G | C20: 320100008 | D20: 经皮静脉内溶栓术 | G20: 次
A21: 19 | B21: G | C21: 320100008-1 | D21: 经皮动脉内溶栓术 | G21: 次
A22: 20 | B22: G | C22: 320100009 | D22: 经皮静脉内超声血栓消融术 | G22: 次
A23: 21 | B23: G | C23: 320100010 | D23: 经皮选择性静脉置管术 | G23: 次
A24: 22 | B24: G | C24: 320100010-1 | D24: 经皮选择性静脉拔管术 | G24: 次
A25: 23 | B25: G | C25: 320100011 | D25: 经颈静脉长期透析管植入术 | G25: 次
A26: 24 | B26: G | C26: 320100012 | D26: 经皮静脉内血管异物取出术 | G26: 次
A27: 25 | B27: G | C27: 320100012-1 | D27: 经皮静脉内血栓抽吸术 | G27: 次
A28: 26 | B28: G | C28: 320100013S | D28: 经皮静脉栓塞术 | E28: 穿刺进入目标静脉，超选进入静脉靶区进行栓塞。 | G28: 次
A29: 27 | B29: G | C29: 320100014S | D29: 经皮穿刺选择性肾上腺静脉取血术 | E29: 股静脉或颈静脉穿刺插管，选择肾上腺静脉，注射对比剂并摄片取血，拔管压迫止血。 | G29: 次
A30: 28 | B30: G | C30: 320100016N | D30: 经皮穿刺胸导管栓塞术 | E30: 经腹或胸穿刺胸导管，注入对比剂，显示胸导管，对病变部位进行栓塞。 | G30: 次
A31: 29 | B31: D | C31: 320100017N | D31: 经淋巴结淋巴管栓塞术 | E31: 经皮淋巴结穿刺，注入对比剂，显示淋巴管，对病变部位进行栓塞。 | G31: 次
A32: 30 | B32: G | C32: 320200001 | D32: 经股动脉置管腹主动脉带簿网支架置入术 | G32: 次
A33: 31 | B33: D | C33: 320200002 | D33: 经皮选择性动脉造影术 | G33: 次
A34: 32 | B34: D | C34: 320200003 | D34: 经皮超选择性动脉造影术 | E34: 不含脑血管及冠状动脉。 | G34: 次
A35: 33 | B35: G | C35: 320200004 | D35: 经皮选择性动脉置管术 | E35: 含各种药物治疗、栓塞、热灌注、鞘管拔出。 | F35: 栓塞剂、泵 | G35: 次
A36: 34 | B36: G | C36: 320200005 | D36: 经皮动脉斑块旋切术 | E36: 不含脑血管及冠状动脉。 | G36: 次
A37: 35 | B37: G | C37: 320200006 | D37: 经皮动脉闭塞激光再通术 | E37: 不含脑血管及冠状动脉。 | G37: 次
A38: 36 | B38: G | C38: 320200006-1/1 | D38: 经皮动脉闭塞激光再通术(使用激光纤维) | G38: 次
A39: 37 | B39: G | C39: 320200006-2 | D39: 经皮静脉闭塞激光再通术 | G39: 次
A40: 38 | B40: G | C40: 320200006-2/1 | D40: 经皮静脉闭塞激光再通术(使用激光纤维) | G40: 次
...

Sheet 骨骼肌肉类医疗服务价格项目废止表
B1: 骨骼肌肉类医疗服务价格项目废止表
A2: 序号 | B2: 财务分类 | C2: 编码 | D2: 项目名称 | E2: 项目内涵 | F2: 除外内容 | G2: 计价单位 | H2: 说明
A3: 1 | B3: D | C3: 230200055 | D3: 骨密度测定 | G3: 人次
A4: 2 | B4: D | C4: 230200055-1 | D4: 单光子骨密度测定 | G4: 人次
A5: 3 | B5: D | C5: 230200055-2 | D5: 双光子或X线能量骨密度测定 | G5: 人次
A6: 4 | B6: G | C6: 310000000-10 | D6: 诊疗中使用关节镜加收 | G6: 次
A7: 5 | B7: G | C7: 310000000-13 | D7: 诊疗中使用脊柱内镜(含微创通道)辅助加收 | G7: 次
A8: 6 | B8: G | C8: 330000000-11 | D8: 术中使用关节镜加收 | G8: 次
A9: 7 | B9: G | C9: 330000000-15 | D9: 术中使用脊柱内镜(含微创通道)辅助加收 | G9: 次
A10: 8 | B10: G | C10: 330703007 | D10: 肋软骨取骨术 | G10: 次
A11: 9 | B11: G | C11: 330703010 | D11: 胸骨牵引术 | G11: 次
A12: 10 | B12: G | C12: 330804063-1 | D12: 指动脉吻合术 | G12: 单侧
A13: 11 | B13: G | C13: 330804063-2 | D13: 趾动脉吻合术 | G13: 单侧
C14: 3315 | D14: 15.肌肉骨骼系统手术 | E14: 不含C型臂和一般X光透视。 | F14: 内、外固定的材料、骨水泥及配套设备 | H14: 取骨另计。
C15: 331501 | D15: 15. 1脊柱骨关节手术 | F15: 人工椎体
A16: 12 | B16: G | C16: 331501001 | D16: 经口咽部环枢椎肿瘤切除术 | E16: 不含植骨。 | G16: 次
A17: 13 | B17: G | C17: 331501002 | D17: 颈1-7椎体肿瘤切除术(前入路) | E17: 不含植骨。 | G17: 次
A18: 14 | B18: G | C18: 331501003 | D18: 颈1-7椎板肿瘤切除术(后入路) | E18: 不含植骨。 | G18: 次
A19: 15 | B19: G | C19: 331501004 | D19: 胸椎肿瘤切除术 | E19: 不含植骨。 | G19: 次
A20: 16 | B20: G | C20: 331501005 | D20: 胸椎椎板及附件肿瘤切除术 | E20: 不含植骨。 | G20: 次
A21: 17 | B21: G | C21: 331501006 | D21: 前路腰椎肿瘤切除术 | E21: 不含植骨。 | G21: 次
A22: 18 | B22: G | C22: 331501007 | D22: 后路腰椎椎板及附件肿瘤切除术 | E22: 不含植骨。 | G22: 次
A23: 19 | B23: G | C23: 331501008 | D23: 经腹膜后胸膜外胸腰段椎体肿瘤切 除术(胸11-腰2) | E23: 不含植骨。 | G23: 次
A24: 20 | B24: G | C24: 331501009 | D24: 经腹膜后腰2-4椎体肿瘤切除术 | E24: 不含植骨。 | G24: 次
A25: 21 | B25: G | C25: 331501010 | D25: 经腹腰5骶1椎体肿瘤切除术 | E25: 不含植骨。 | G25: 次
A26: 22 | B26: G | C26: 331501011 | D26: 骶骨肿瘤骶骨部分切除术 | G26: 次
A27: 23 | B27: G | C27: 331501012 | D27: 骶骨肿瘤骶骨次全切除术 | G27: 次
A28: 24 | B28: G | C28: 331501013 | D28: 骶骨肿瘤骶骨全切除及骶骨重建术 | G28: 次
A29: 25 | B29: G | C29: 331501014 | D29: 腰骶髂连接部肿瘤切除术 | G29: 次
A30: 26 | B30: G | C30: 331501014-1 | D30: 骶尾部畸胎瘤切除术 | G30: 次
A31: 27 | B31: G | C31: 331501015 | D31: 半骨盆切除术 | G31: 次
A32: 28 | B32: G | C32: 331501016 | D32: 半骨盆切除人工半骨盆置换术 | E32: 不含回输血和脉冲器的使用。 | F32: 人工半骨盆 | G32: 次
A33: 29 | B33: G | C33: 331501017 | D33: 髂窝脓肿切开引流术 | G33: 次
A34: 30 | B34: G | C34: 331501018 | D34: 髂腰肌脓肿切开引流术 | G34: 次
A35: 31 | B35: G | C35: 331501019 | D35: 颈椎间盘切除术 | G35: 次
A36: 32 | B36: G | C36: 331501020 | D36: 颈椎间盘切除椎间植骨融合术 | G36: 每节间盘
A37: 33 | B37: G | C37: 331501021 | D37: 颈椎体次全切除植骨融合术 | G37: 每节椎骨
A38: 34 | B38: G | C38: 331501022 | D38: 颈椎钩椎关节切除术 | E38: 不含植骨。 | G38: 每节椎骨
A39: 35 | B39: G | C39: 331501023 | D39: 颈椎侧方入路枢椎齿突切除术 | G39: 次
A40: 36 | B40: G | C40: 331501024 | D40: 后入路环枢椎植骨融合术 | E40: 不含取骨。 | G40: 次
...

Sheet 物理治疗类医疗服务价格项目废止表
A1: 物理治疗类医疗服务价格项目废止表
A2: 序号 | B2: 财务分类 | C2: 编码 | D2: 项目名称 | E2: 项目内涵 | F2: 除外内容 | G2: 计价单位 | H2: 说明
A3: 1 | B3: E | C3: 240700001 | D3: 深部热疗 | E3: =VLOOKUP(D3,[2]基本目录!$D$11:$H$7000,2,FALSE) -> 指超声或电磁波等热疗。 | G3: 次
A4: 2 | B4: E | C4: 240700001-1 | D4: 深部热疗加收(内生场热疗) | G4: 次
A5: 3 | B5: E | C5: 240700002 | D5: 高强度超声聚焦刀治疗 | E5: =VLOOKUP(D5,[2]基本目录!$D$11:$H$7000,2,FALSE) -> 指使用焦域声强5000W/cm2以下高强度超声聚焦设备对实体性肿瘤的疗程损毁性消融治疗:含术中超声监控。 | G5: 次 | H5: =VLOOKUP(D5,[2]基本目录!$D$11:$H$7000,5,FALSE) -> 同一病灶按实际治疗次数计收，超过5次的，最高按5次计收。
A6: 4 | B6: E | C6: 240700002-1 | D6: 高强度聚焦超声热消融肿瘤刀治疗 | E6: =VLOOKUP(D6,[2]基本目录!$D$11:$H$7000,2,FALSE) -> 指使用焦域声强5000W/cm2及以上高强度超声聚焦设备对实体性肿瘤的一次损毁性消融治疗:含术中超声监控。 | G6: 次 | H6: =VLOOKUP(D6,[2]基本目录!$D$11:$H$7000,5,FALSE) -> 同一病灶治疗按一次计收
A7: 5 | B7: E | C7: 240700003 | D7: 体表肿瘤电化学治疗 | G7: 次
A8: 6 | B8: E | C8: 240700004S | D8: 光动力治疗
A9: 7 | B9: E | C9: 240700004S-1 | D9: 恶性肿瘤光动力治疗 | E9: 含光敏剂、激光源。 | G9: 次
A10: 8 | B10: E | C10: 240700004S-2 | D10: 良性病变光动力治疗 | E10: =VLOOKUP(D10,[2]基本目录!$D$11:$H$7000,2,FALSE) -> 含激光源。 | G10: 次 | H10: =VLOOKUP(D10,[2]基本目录!$D$11:$H$7000,5,FALSE) -> 体被肿物3个肿物以内（含3个）为一次。
A11: 9 | B11: E | C11: 240700004S-2/1 | D11: 良性病变光动力治疗加收(超过3个肿物) | G11: 每个肿物
A12: 10 | B12: G | C12: 310208004S | D12: 经皮穿刺甲状腺结节消融术 | E12: =VLOOKUP(D12,[2]基本目录!$D$11:$H$7000,2,FALSE) -> 指经皮穿刺甲状腺，使用物理方法对结节进行消融。 | G12: 次 | H12: =VLOOKUP(D12,[2]基本目录!$D$11:$H$7000,5,FALSE) -> 甲状旁腺消融参照此收费。
A13: 11 | B13: E | C13: 310300086 | D13: 光动力疗法(PDT) | E13: =VLOOKUP(D13,[2]基本目录!$D$11:$H$7000,2,FALSE) -> 含光敏剂配置、微泵注入药物、激光治疗。 | F13: =VLOOKUP(D13,[2]基本目录!$D$11:$H$7000,3,FALSE) -> 光敏剂 | G13: 次/只
A14: 12 | B14: G | C14: 310510008 | D14: 激光口内治疗 | E14: =VLOOKUP(D14,[2]基本目录!$D$11:$H$7000,2,FALSE) -> 指：1.根管处置，2.牙周处置，3.各种斑、痣、小肿物、溃疡治疗。 | G14: 每部位
A15: 13 | B15: E | C15: 310514003 | D15: 口腔粘膜病特殊治疗
A16: 14 | B16: E | C16: 310514003-1 | D16: 口腔粘膜病红外线治疗 | G16: 每部位
A17: 15 | B17: E | C17: 310514003-2 | D17: 口腔粘膜病微波治疗 | G17: 每部位
A18: 16 | B18: E | C18: 310514003-3 | D18: 口腔粘膜病冷冻治疗 | G18: 每部位
A19: 17 | B19: E | C19: 310514003-4 | D19: 口腔粘膜病频谱治疗 | G19: 每部位
A20: 18 | B20: E | C20: 310514004S | D20: 口腔黏膜病损电凝术 | G20: 次
A21: 19 | B21: E | C21: 310904008 | D21: 便秘及腹泻的生物反馈治疗 | G21: 次
A22: 20 | B22: E | C22: 311201057 | D22: 乳房按摩 | G22: 次
A23: 21 | B23: E | C23: 311201057-1 | D23: 乳房微波按摩 | G23: 次
A24: 22 | B24: E | C24: 311201057-2 | D24: 吸乳 | G24: 次
A25: 23 | B25: E | C25: 311202009 | D25: 新生儿蓝光治疗 | E25: 含蓝光灯、眼罩。 | G25: 小时
A26: 24 | B26: G | C26: 311300003 | D26: 关节腔灌注治疗 | G26: 次
A27: 25 | B27: E | C27: 311400015 | D27: 黑光治疗(PUVA治疗) | G27: 每部位
A28: 26 | B28: E | C28: 311400016 | D28: 红光治疗 | G28: 每部位
A29: 27 | B29: E | C29: 311400047 | D29: 护架烤灯热疗 | E29: =VLOOKUP(D29,[2]基本目录!$D$11:$H$7000,2,FALSE) -> 限烧伤病房。 | G29: 千瓦时
A30: 28 | B30: E | C30: 311400048 | D30: 烧伤大型远红外线治疗机治疗 | G30: 次
A31: 29 | B31: E | C31: 311400058 | D31: 窄谱紫外线治疗 | E31: =VLOOKUP(D31,[2]基本目录!$D$11:$H$7000,2,FALSE) -> 含UVA、UVB治疗。 | G31: 次 | H31: =VLOOKUP(D31,[2]基本目录!$D$11:$H$7000,5,FALSE) -> 照射1个部位为1次
A32: 30 | B32: E | C32: 311400058-1 | D32: 全身窄谱紫外线治疗 | E32: =VLOOKUP(D32,[2]基本目录!$D$11:$H$7000,2,FALSE) -> 含UVA、UVB治疗。 | G32: 次 | H32: =VLOOKUP(D32,[2]基本目录!$D$11:$H$7000,5,FALSE) -> 3个以上部位按全身收费。
A33: 31 | B33: E | C33: 330100019S | D33: 体外循环热疗
A34: 32 | B34: E | C34: 330100019S-1 | D34: 全身体外循环热疗(EWBH) | E34: 填写患者基本资料、摆位要求。采用全身体外热循环灌注仪治疗，温度测量，热疗范围温度要求40-43℃。 | F34: 氧合器、管道、插管、心肌保护液灌输系统、滤器、血液浓缩器、离心泵 | G34: 次
A35: 33 | B35: E | C35: 330100019S-2 | D35: 区域热循环灌注热疗 | E35: =VLOOKUP(D35,[2]基本目录!$D$11:$H$7000,2,FALSE) -> 填写患者基本资料、摆位要求。采用热循环灌注仪治疗，温度测量，热疗范围温度要求40-45℃。 | F35: =VLOOKUP(D35,[2]基本目录!$D$11:$H$7000,3,FALSE) -> 治疗管道组件（热交换器、过滤器、泵管、药液袋、温度监测、配管等）、引流管 | G35: 次
A36: 34 | B36: E | C36: 340100017 | D36: 超声波治疗 | E36: =VLOOKUP(D36,[2]基本目录!$D$11:$H$7000,2,FALSE) -> 指使用超声波治疗仪治疗。 | G36: 每5分钟
A37: 35 | B37: G | C37: 330604028 | D37: 睡眠呼吸暂停综合征射频温控消融治疗术 | E37: =VLOOKUP(D37,[2]基本目录!$D$11:$H$7000,2,FALSE) -> 指鼻甲、软腭、舌根肥大,鼻鼾症,阻塞性睡眠呼吸暂停综合征。 | G37: 次
A38: 36 | B38: G | C38: 330703001 | D38: 开胸冷冻治疗 | E38: =VLOOKUP(D38,[2]基本目录!$D$11:$H$7000,2,FALSE) -> 含各种不能切除之胸部肿瘤。 | G38: 次
A39: 37 | B39: G | C39: 330703002 | D39: 开胸肿瘤特殊治疗 | E39: =VLOOKUP(D39,[2]基本目录!$D$11:$H$7000,2,FALSE) -> 指激光、微波、射频消融等方法。 | G39: 次
A40: 38 | B40: G | C40: 331501058 | D40: 椎间盘微创消融术 | G40: 每间盘
...
